Workbook

Sheet №1 ИП-ТС
B1: Приложение 2/1 к протоколу Департамента энергетики
B2: и тарифов Ивановской области от 09.09.2026 № 29/1
B3: Форма № 1-ИП ТС
A5: Паспорт инвестиционной программы организации, осуществляющей
A6: регулируемые виды деятельности в сфере теплоснабжения
A7: ИП Шорохов С.В.
A8: (наименование регулируемой организации)
A10: Наименование регулируемой организации, в отношении которой разрабатывается инвестиционная программа в сфере теплоснабжения | B10: Индивидуальный предприниматель Шорохов Сергей Вадимович
A11: Местонахождение регулируемой организации | B11: Ивановская область, г Родники, мкр. Южный, д. 24, кв. 23
A12: Сроки реализации инвестиционной программы | B12: 2027 год
A13: Лицо, ответственное за разработку инвестиционной программы | B13: Индивидуальный предприниматель Шорохов Сергей Вадимович
A14: Контакты ответственных за разработку инвестиционной программы лиц | B14: 8-920-347-87-54
A15: Наименование исполнительного органа субъекта Российской Федерации или органа местного самоуправления, утвердившего инвестиционную программу | B15: Департамент энергетики и тарифов Ивановской области
A16: Местонахождение исполнительного органа субъекта Российской Федерации или органа местного самоуправления, утвердившего инвестиционную программу | B16: 153022, г. Иваново ул. Велижская, 8
A17: Должностное лицо уполномоченного ответственного органа, утвердившее инвестиционную программу | B17: Член Правительства Ивановской области -директор Департамента энергетики и тарифов Ивановской области Е.Н. Морева
A18: Контакты ответственных за утверждение инвестиционной программы лиц | B18: det@ivreg.ru +7 (4932) 93-85-93
A19: Наименование органа местного самоуправления, согласовавшего инвестиционную программу | B19: Администрация Гаврилово-Посадского муниципального района Ивановской области
A20: Местонахождение органа местного самоуправления, согласовавшего инвестиционную программу | B20: 155000, Ивановская область, город Гаврилов Посад, улица Розы Люксембург, дом 3
A21: Должностное лицо уполномоченного ответственного органа, согласовавшее инвестиционную программу | B21: В.Ю. Лаптев, Глава Гаврилово-Посадского муниципального района Ивановской области
A22: Контакты ответственных за согласование инвестиционной программы лиц | B22: 8 (49355) 2-12-60

Sheet №2 ИП ТС
O1: Приложение 2/2 к протоколу Департамента энергетики | Z1: Приложение 2 к постановлению Департамента энергетики | AA1: Приложение 2 к постановлению Департамента энергетики | AE1: Приложение 2 к постановлению Департамента энергетики | AF1: Приложение 2 к постановлению Департамента энергетики | AJ1: Приложение 2/2 к протоколу Департамента энергетики | AR1: Приложение 2/2 к протоколу Департамента энергетики
O2: и тарифов Ивановской области от 09.09.2026 № 29/1 | Z2: и тарифов Ивановской области от от 09.09.2026 № 29-ип(тс)/2 | AA2: и тарифов Ивановской области от от 09.09.2026 № 29-ип(тс)/2 | AE2: и тарифов Ивановской области от от 09.09.2026 № 29-ип(тс)/2 | AF2: и тарифов Ивановской области от от 09.09.2026 № 29-ип(тс)/2 | AJ2: и тарифов Ивановской области от 09.09.2026 № 29/1 | AR2: и тарифов Ивановской области от 09.09.2026 № 29/1
O3: Форма № 2-ИП ТС | Z3: Форма № 2-ИП ТС | AA3: Форма № 2-ИП ТС | AE3: Форма № 2-ИП ТС | AF3: Форма № 2-ИП ТС | AJ3: Форма № 2-ИП ТС | AR3: Форма № 2-ИП ТС
A4: Инвестиционная программа
A5: ='№1 ИП-ТС'!A7:B7 -> ИП Шорохов С.В.
A6: (наименование регулируемой организации)
A7: в сфере теплоснабжения на 2027 год
A9: N п/п | B9: Наименование мероприятий | C9: Кадастровый номер объекта (участка объекта) | D9: Вид объекта | E9: Описание и место расположения объекта | F9: Основные технические характеристики | P9: Год начала реализации | Q9: Год окончания реализации | R9: Расходы на реализацию мероприятий в прогнозных ценах, тыс. руб. без НДС | AH9: Расшифровка источников финансирования инвестиционной программы, тыс. руб. Без НДС
F10: Наименование и значение показателя | R10: Плановые расходы | U10: Профинансировано к 2027 году | AG10: Остаток финансирования | AH10: Амортизация (стр. 1.1 ФП) | AI10: Прибыль, направленная на инвестиции (стр. 1.2 ФП) | AJ10: Средства, полученные за счет платы за подключение (стр. 1.3 ФП) | AK10: Прочие собственные средства (стр. 1.4 ФП) | AL10: Экономия расходов (стр. 1.5 ФП) | AN10: Расходы на оплату лизинговых платежей по договору финансовой аренды (лизинга) (стр. 1.6 ФП) | AO10: Иные собственные средства (стр. 2 ФП) | AP10: Привлеченные средства на возвратной основе (стр 3 ФП) | AQ10: Бюджетные средства по каждой системе централизованного теплоснабжения с выделением расходов концедента на строительство, модернизацию и (или) реконструкцию объекта концессионного соглашения по каждой системе централизованного теплоснабжения при наличии таких расходов (стр. 4 ФП) | AR10: Прочие источники финансирования (стр. 5 ФП)
F11: до реализации мероприятия | K11: после реализации мероприятия
F12: Тепловая сеть | J12: Тепловая нагрузка, Гкал/ч | K12: Тепловая сеть | O12: Тепловая нагрузка, Гкал/ч | R12: Всего: | S12: в том числе: | AL12: в результате реализации мероприятий инвестиционной программы | AM12: связанную с сокращением потерь в тепловых сетях, сменой видов и (или) марки основного и (или) резервного топлива на источниках тепловой энергии, реализацией энергосервисного договора (контракта) в размере, определенном по решению регулируемой организации, плату за подключение (технологическое присоединение) к системам централизованного теплоснабжения (раздельно по каждой системе, если регулируемая организация эксплуатирует несколько таких систем
F13: Условный диаметр, мм | G13: Пропускная способность, т/ч | H13: Протяженность (в однотрубном исчислении), км | I13: Способ прокладки | K13: Условный диаметр, мм | L13: Пропускная способность, т/ч | M13: Протяженность (в однотрубном исчислении), км | N13: Способ прокладки | S13: ПИР | T13: СМР | V13: 2027 | W13: =V13+1 -> 2028 | X13: =W13+1 -> 2029 | Y13: =X13+1 -> 2030 | Z13: =Y13+1 -> 2031 | AA13: =Z13+1 -> 2032 | AB13: =AA13+1 -> 2033 | AC13: =AB13+1 -> 2034 | AD13: =AC13+1 -> 2035 | AE13: =AD13+1 -> 2036 | AF13: 2037-2038
A14: 1 | B14: 2 | C14: 3 | D14: 4 | E14: 5 | F14: 6.1 | G14: 6.2 | H14: 6.3 | I14: 6.4 | J14: 6.5 | K14: 7.1 | L14: 7.2 | M14: 7.3 | N14: 7.4 | O14: 7.5 | P14: 8 | Q14: 9 | R14: 10.1 | S14: 10.2 | T14: 10.3 | U14: 10.4 | V14: 10.7 | W14: 10.8 | X14: 10.9 | Y14: 10.10 | Z14: 10.11 | AA14: 10.12 | AB14: 10.13 | AC14: 10.14 | AD14: 10.15 | AE14: 10.16 | AF14: 10.17 | AG14: 10.8 | AH14: 11.1 | AI14: 11.2 | AJ14: 11.3 | AK14: 11.4 | AL14: 11.5.1 | AM14: 11.5.2 | AN14: 11.6 | AO14: 11.7 | AP14: 11.8 | AQ14: 11.9 | AR14: 11.10
A15: Группа 1. Строительство, реконструкция или модернизация объектов в целях подключения потребителей:
A16: 1.1. Строительство новых тепловых сетей в целях подключения потребителей
A17: 1.2. Строительство иных объектов системы централизованного теплоснабжения, за исключением тепловых сетей, в целях подключения потребителей
A18: 1.3. Увеличение пропускной способности существующих тепловых сетей в целях подключения потребителей
A19: 1.4. Увеличение мощности и производительности существующих объектов централизованного теплоснабжения, за исключением тепловых сетей, в целях подключения потребителей
A20: Всего по группе 1 | C20: - | D20: - | E20: - | F20: - | G20: - | H20: - | I20: - | J20: - | K20: - | L20: - | M20: - | N20: - | O20: - | P20: - | Q20: - | R20: - | S20: - | T20: - | U20: - | V20: - | W20: - | X20: - | Y20: - | Z20: - | AA20: - | AB20: - | AC20: - | AD20: - | AE20: - | AF20: - | AG20: - | AH20: - | AI20: - | AJ20: - | AK20: - | AL20: - | AM20: - | AN20: - | AO20: - | AP20: - | AQ20: - | AR20: -
A21: Группа 2. Строительство новых объектов системы централизованного теплоснабжения, не связанных с подключением новых потребителей, в том числе строительство новых тепловых сетей
A22: 2.1. | R22: 0 | S22: 0 | T22: 0 | U22: 0 | V22: 0 | W22: 0 | X22: 0 | Y22: 0 | Z22: 0 | AA22: 0 | AB22: 0 | AC22: 0 | AD22: 0 | AE22: 0 | AF22: 0 | AG22: 0 | AH22: 0 | AI22: 0 | AJ22: 0 | AK22: 0 | AL22: 0 | AM22: 0 | AN22: 0 | AO22: 0 | AP22: 0 | AQ22: 0 | AR22: 0
A23: 2.2. | R23: 0 | S23: 0 | T23: 0 | U23: 0 | V23: 0 | W23: 0 | X23: 0 | Y23: 0 | Z23: 0 | AA23: 0 | AB23: 0 | AC23: 0 | AD23: 0 | AE23: 0 | AF23: 0 | AG23: 0 | AH23: 0 | AI23: 0 | AJ23: 0 | AK23: 0 | AL23: 0 | AM23: 0 | AN23: 0 | AO23: 0 | AP23: =R23-AH23 -> 0 | AQ23: 0 | AR23: 0
A24: Всего по группе 2 | C24: - | D24: - | E24: - | F24: - | G24: - | H24: - | I24: - | J24: - | K24: - | L24: - | M24: - | N24: - | O24: - | P24: - | Q24: - | R24: =R22+R23 -> 0 | S24: =S22+S23 -> 0 | T24: =T22+T23 -> 0 | U24: =U22+U23 -> 0 | V24: =V22+V23 -> 0 | W24: =W22+W23 -> 0 | X24: =X22+X23 -> 0 | Y24: =Y22+Y23 -> 0 | ... AP24: =AP22+AP23 -> 0 | AQ24: 0 | AR24: =AR22+AR23 -> 0
A25: Группа 3. Реконструкция или модернизация существующих объектов централизованного теплоснабжения в целях снижения уровня износа существующих объектов системы централизованного теплоснабжения и (или) поставки энергии от разных источников
A26: 3.1. Реконструкция или модернизация существующих тепловых сетей
A27: 3.1.1 | R27: 0 | S27: 0 | T27: 0 | U27: 0 | V27: 0 | W27: 0 | X27: 0 | Y27: 0 | Z27: 0 | AA27: 0 | AB27: 0 | AC27: 0 | AD27: 0 | AE27: 0 | AF27: 0 | AG27: 0 | AH27: 0 | AI27: 0 | AJ27: 0 | AK27: 0 | AL27: 0 | AM27: 0 | AN27: 0 | AO27: 0 | AP27: =R27-AQ27 -> 0 | AQ27: 0 | AR27: 0
A28: 3.1.2 | R28: 0 | S28: 0 | T28: 0 | U28: 0 | V28: 0 | W28: 0 | X28: 0 | Y28: 0 | Z28: 0 | AA28: 0 | AB28: 0 | AC28: 0 | AD28: 0 | AE28: 0 | AF28: 0 | AG28: 0 | AH28: 0 | AI28: 0 | AJ28: 0 | AK28: 0 | AL28: 0 | AM28: 0 | AN28: 0 | AO28: 0 | AP28: =R28-AQ28 -> 0 | AQ28: 0 | AR28: 0
A29: 3.2. Реконструкция или модернизация существующих объектов системы централизованного теплоснабжения, за исключением тепловых сетей
A31: 3.2.2 | R31: 0 | S31: 0 | T31: =R31 -> 0 | U31: 0 | V31: 0 | W31: 0 | X31: 0 | Y31: 0 | Z31: 0 | AA31: 0 | AB31: 0 | AC31: 0 | AD31: =R31 -> 0 | AE31: 0 | AF31: 0 | AG31: 0 | AH31: 0 | AI31: 0 | AJ31: 0 | AK31: 0 | AL31: 0 | AM31: 0 | AN31: 0 | AO31: 0 | AP31: =R31-AQ31 -> 0 | AQ31: 0 | AR31: 0
A32: Всего по группе 3 | C32: - | D32: - | E32: - | F32: - | G32: - | H32: - | I32: - | J32: - | K32: - | L32: - | M32: - | N32: - | O32: - | P32: - | Q32: - | R32: =SUM(R27:R28)+R30+R31 -> 0 | S32: =SUM(S27:S28)+S30+S31 -> 0 | T32: =SUM(T27:T28)+T30+T31 -> 0 | U32: =SUM(U27:U28)+U30+U31 -> 0 | V32: =SUM(V27:V28)+V30+V31 -> 0 | W32: =SUM(W27:W28)+W30+W31 -> 0 | X32: =SUM(X27:X28)+X30+X31 -> 0 | Y32: =SUM(Y27:Y28)+Y30+Y31 -> 0 | ... AR32: =SUM(AR27:AR28)+AR30+AR31 -> 0
A33: Группа 4. Мероприятия, направленные на снижение негативного воздействия на окружающую среду, достижение плановых значений показателей надежности и энергетической эффективности объектов теплоснабжения, повышение эффективности работы систем централизованного теплоснабжения
A34: Всего по группе 4 | C34: - | D34: - | E34: - | F34: - | G34: - | H34: - | I34: - | J34: - | K34: - | L34: - | M34: - | N34: - | O34: - | P34: - | Q34: - | R34: - | S34: - | T34: - | U34: - | V34: - | W34: - | X34: - | Y34: - | Z34: - | AA34: - | AB34: - | AC34: - | AD34: - | AE34: - | AF34: - | AG34: - | AH34: - | AI34: - | AJ34: - | AK34: - | AL34: - | AM34: - | AN34: - | AO34: - | AP34: - | AQ34: - | AR34: -
A35: Группа 5. Вывод из эксплуатации, консервация и демонтаж объектов системы централизованного теплоснабжения
A36: 5.1. Вывод из эксплуатации, консервация и демонтаж тепловых сетей
A37: 5.2. Вывод из эксплуатации, консервация и демонтаж иных объектов системы централизованного теплоснабжения, за исключением тепловых сетей
A38: Всего по группе 5 | D38: - | E38: - | F38: - | G38: - | H38: - | I38: - | J38: - | K38: - | L38: - | M38: - | N38: - | O38: - | P38: - | Q38: - | R38: - | S38: - | T38: - | U38: - | V38: - | W38: - | X38: - | Y38: - | Z38: - | AA38: - | AB38: - | AC38: - | AD38: - | AE38: - | AF38: - | AG38: - | AH38: - | AI38: - | AJ38: - | AK38: - | AL38: - | AM38: - | AN38: - | AO38: - | AP38: - | AQ38: - | AR38: -
A39: Группа 6. Мероприятия, предусматривающие капитальные вложения в объекты основных средств и нематериальные активы регулируемой организации, обусловленные необходимостью соблюдения регулируемыми организациями обязательных требований, установленных законодательством Российской Федерации и связанных с осуществлением деятельности в сфере теплоснабжения, включая мероприятия по обеспечению безопасности и антитеррористической защищенности объектов топливно-энергетического комплекса, безопасности критической информационной инфраструктуры.
A40: 6.1 | B40: Установка системы видеонаблюдения по периметру котельной с.Новоселка | C40: 37:03:011003:841 | D40: прочие | E40: с. Новоселка | P40: 2027 | Q40: 2027 | R40: 207.5333 | S40: 0 | T40: 207.5333 | U40: 0 | V40: 207.5333 | W40: 0 | X40: 0 | Y40: 0 | Z40: 0 | AA40: 0 | AB40: 0 | AC40: 0 | AD40: 0 | AE40: 0 | AF40: 0 | AG40: 0 | AH40: 207.5333 | AI40: 0 | AJ40: 0 | AK40: 0 | AL40: 0 | AM40: 0 | AN40: 0 | AO40: 0 | AP40: 0 | AQ40: 0 | AR40: 0
A41: 6.2 | B41: Установка основного ограждения по периметру котельной с. Новоселка | C41: 37:03:011003:838 | D41: прочие | E41: с. Новоселка | P41: 2027 | Q41: 2027 | R41: 337.67298 | S41: 0 | T41: 337.67298 | U41: 0 | V41: 337.67298 | W41: 0 | X41: 0 | Y41: 0 | Z41: 0 | AA41: 0 | AB41: 0 | AC41: 0 | AD41: 0 | AE41: 0 | AF41: 0 | AG41: 0 | AH41: 337.67298 | AI41: 0 | AJ41: 0 | AK41: 0 | AL41: 0 | AM41: 0 | AN41: 0 | AO41: 0 | AP41: 0 | AQ41: 0 | AR41: 0
A42: Всего по группе 6 | C42: - | D42: - | E42: - | F42: - | G42: - | H42: - | I42: - | J42: - | K42: - | L42: - | M42: - | N42: - | O42: - | P42: - | Q42: - | R42: 545.20628 | S42: 0 | T42: 545.20628 | U42: 0 | V42: 545.20628 | W42: 0 | X42: 0 | Y42: 0 | Z42: 0 | AA42: 0 | AB42: 0 | AC42: 0 | AD42: 0 | AE42: 0 | AF42: 0 | AG42: 0 | AH42: 545.20628 | AI42: 0 | AJ42: 0 | AK42: 0 | AL42: 0 | AM42: 0 | AN42: 0 | AO42: 0 | AP42: 0 | AQ42: 0 | AR42: =AR40+AR41 -> 0
...

Sheet №3 ИП-ТС
C1: Приложение 2/3 к постановлению Департамента энергетики
D2: и тарифов Ивановской области от 09.09.2026 № 29/1
D3: Форма № 3-ИП ТС
A4: Плановые значения показателей, достижение которых предусмотрено в результате реализации мероприятий инвестиционной программы
A5: ='№1 ИП-ТС'!A7:B7 -> ИП Шорохов С.В.
A6: в сфере теплоснабжения на 2027 год
A8: N п/п | B8: Наименование показателя | C8: Ед. изм. | D8: Фактические значения | E8: Текущее значение | F8: Плановые значения
F9: в т.ч. по годам реализации
F11: 2027 | G11: =F11+1 -> 2028 | H11: =G11+1 -> 2029 | I11: =H11+1 -> 2030 | J11: =I11+1 -> 2031 | K11: =J11+1 -> 2032 | L11: =K11+1 -> 2033 | M11: =L11+1 -> 2034 | N11: =M11+1 -> 2035 | ... Q11: =P11+1 -> 2038 | R11: 2037-2045
A12: =COLUMN() -> 1 | B12: =COLUMN() -> 2 | C12: =COLUMN() -> 3 | D12: =COLUMN() -> 4 | E12: =COLUMN() -> 5 | F12: =COLUMN() -> 6 | G12: =COLUMN() -> 7 | H12: =COLUMN() -> 8 | ... R12: =COLUMN() -> 18
A13: 1 | B13: Удельный расход электрической энергии на транспортировку теплоносителя | C13: кВт•ч/м3 | D13: - | E13: - | F13: - | G13: - | H13: - | I13: - | J13: - | K13: - | L13: - | M13: - | N13: - | O13: - | P13: - | Q13: - | R13: -
A14: 2 | B14: Удельный расход условного топлива на отпуск с коллекторов единицы тепловой энергии | C14: кг.у.т./Гкал | D14: - | E14: - | F14: - | G14: =F14 -> - | H14: =G14 -> - | I14: =H14 -> - | J14: =I14 -> - | K14: =J14 -> - | L14: =K14 -> - | M14: =L14 -> - | N14: =M14 -> - | O14: =N14 -> - | P14: =N14 -> - | Q14: =O14 -> - | R14: =Q14 -> -
A15: =ROW()-15 -> 0 | C15: кг.у.т./м3 | D15: - | E15: - | F15: - | G15: =F15 -> - | H15: =G15 -> - | I15: =H15 -> - | J15: =I15 -> - | K15: =J15 -> - | L15: =K15 -> - | M15: =L15 -> - | N15: =M15 -> - | ... R15: =Q15 -> -
A16: 3 | B16: Объем присоединяемой тепловой нагрузки новых потребителей | C16: Гкал/ч | D16: - | E16: - | F16: - | G16: - | H16: - | I16: - | J16: - | K16: - | L16: - | M16: - | N16: - | O16: - | P16: - | Q16: - | R16: -
A17: 4 | B17: Износ объектов системы теплоснабжения с выделением процента износа объектов, существующих на начало реализации Инвестиционной программы | C17: % | D17: - | E17: - | F17: - | G17: - | H17: - | I17: - | J17: - | K17: - | L17: - | M17: - | N17: - | O17: - | P17: - | Q17: - | R17: -
A18: 5 | B18: Потери тепловой энергии при передаче тепловой энергии по тепловым сетям | C18: Гкал в год | D18: =E18 -> - | E18: =F18 -> - | F18: - | G18: =F18 -> - | H18: =G18 -> - | I18: =H18 -> - | J18: =I18 -> - | K18: =J18 -> - | L18: =K18 -> - | M18: =L18 -> - | N18: =M18 -> - | O18: =N18 -> - | P18: =N18 -> - | Q18: =O18 -> - | R18: =#REF!+#REF!+#REF! -> #REF!
A19: =ROW()-15 -> 4 | C19: % от полезного отпуска тепловой энергии | D19: =E19 -> - | E19: =F19 -> - | F19: - | G19: =F19 -> - | H19: =G19 -> - | I19: =H19 -> - | J19: =I19 -> - | K19: =J19 -> - | L19: =K19 -> - | M19: =L19 -> - | N19: =M19 -> - | O19: =N19 -> - | P19: =N19 -> - | Q19: =O19 -> - | R19: -
A20: 6 | B20: Потери теплоносителя при передаче тепловой энергии по тепловым сетям | C20: тонн в год для воды | D20: =E20 -> - | E20: =F20 -> - | F20: - | G20: =F20 -> - | H20: =G20 -> - | I20: =H20 -> - | J20: =I20 -> - | K20: =J20 -> - | L20: =K20 -> - | M20: =L20 -> - | N20: =M20 -> - | O20: =N20 -> - | P20: =N20 -> - | Q20: =O20 -> - | R20: =Q20 -> -
A21: =ROW()-15 -> 6 | C21: куб. м для пара | D21: =E21 -> - | E21: =F21 -> - | F21: - | G21: =F21 -> - | H21: =G21 -> - | I21: =H21 -> - | J21: =I21 -> - | K21: =J21 -> - | L21: =K21 -> - | M21: =L21 -> - | N21: =M21 -> - | O21: =N21 -> - | P21: =N21 -> - | Q21: =O21 -> - | R21: =#REF!+#REF!+#REF! -> #REF!
A22: 7 | B22: Показатели, характеризующие снижение негативного воздействия на окружающую среду, определяемые в соответствии с законодательством РФ об охране окружающей среды: | C22: в соответствии с законодательством РФ об охране окружающей среды | D22: - | E22: - | F22: - | G22: - | H22: - | I22: - | J22: - | K22: - | L22: - | M22: - | N22: - | O22: - | P22: - | Q22: - | R22: -
A23: 7.1. | B23: Содержание в уходящих газах СО | C23: % | D23: - | E23: - | F23: - | G23: - | H23: - | I23: - | J23: - | K23: - | L23: - | M23: - | N23: - | O23: - | P23: - | Q23: - | R23: -
A24: 7.2. | B24: Содержание в уходящих газах СО2 | C24: % | D24: - | E24: - | F24: - | G24: =F24 -> - | H24: =G24 -> - | I24: =H24 -> - | J24: =I24 -> - | K24: =J24 -> - | L24: =K24 -> - | M24: =L24 -> - | N24: =M24 -> - | O24: =N24 -> - | P24: =N24 -> - | Q24: =O24 -> - | R24: =Q24 -> -
A25: 7.3. | B25: Содержание в уходящих газах NOx | C25: % | D25: - | E25: - | F25: - | G25: - | H25: - | I25: - | J25: - | K25: - | L25: - | M25: - | N25: - | O25: - | P25: - | Q25: - | R25: -
F28: ='№1 ИП-ТС'!B24 -> 0

Sheet № 4 ИП ТС
AA1: Приложение 2/4 к постановлению Департамента энергетики | BY1: Приложение 4 к постановлению Департамента энергетики | CX1: Приложение 4 к постановлению Департамента энергетики
B2: и тарифов Ивановской области от от 09.09.2026 № 29/1 | BY2: и тарифов Ивановской области от от 09.09.2026 № 29-ип(тс)/1 | CX2: и тарифов Ивановской области от от 09.09.2026 № 29-ип(тс)/1
O3: Форма № 4-ИП ТС | BY3: Форма № 4-ИП ТС | CX3: Форма № 4-ИП ТС
A4: Показатели надежности и энергетической эффективности объектов централизованного теплоснабжения | CH4: =AL4 -> 0
A8: ='№1 ИП-ТС'!A7:B7 -> ИП Шорохов С.В.
A9: (наименование регулируемой организации)
A11: № п/п | B11: Наименование объекта | C11: Показатели надежности | AA11: Показатели энергетической эффективности | AM11: Показатели энергетической эффективности
C12: Количество прекращений подачи тепловой энергии, теплоносителя в результате технологических нарушений на тепловых сетях на 1 км тепловых сетей | O12: Количество прекращений подачи тепловой энергии, теплоносителя в результате технологических нарушений на источниках тепловой энергии на 1 Гкал/час установленной мощности | AA12: Удельный расход топлива на производство единицы тепловой энергии, отпускаемой с коллекторов источников тепловой энергии, кг у.т./Гкал | AM12: Отношение величины технологических потерь тепловой энергии, теплоносителя к материальной характеристике тепловой сети, Гкал/м2 | AY12: Отношение величины технологических потерь теплоносителя к материальной характеристике тепловой сети, м3/м2 | BK12: Величина технологических потерь при передаче тепловой энергии, теплоносителя по тепловым сетям, Гкал | BW12: Величина технологических потерь при передаче теплоносителя по тепловым сетям, м3
C15: Текущее значение | D15: Плановое значение | O15: Текущее значение | P15: Плановое значение | AA15: Текущее значение | AB15: Плановое значение | AM15: Текущее значение | AN15: Плановое значение | AY15: Текущее значение | AZ15: Плановое значение | BK15: Текущее значение | BL15: =AZ15 -> Плановое значение | BW15: Текущее значение | BX15: Плановое значение
D16: 2027 | E16: =D16+1 -> 2028 | F16: =E16+1 -> 2029 | G16: =F16+1 -> 2030 | H16: =G16+1 -> 2031 | I16: =H16+1 -> 2032 | J16: =I16+1 -> 2033 | K16: =J16+1 -> 2034 | L16: =K16+1 -> 2035 | M16: =L16+1 -> 2036 | N16: 2037-2038 | P16: =D16 -> 2027 | Q16: =E16 -> 2028 | R16: =F16 -> 2029 | S16: =G16 -> 2030 | T16: =H16 -> 2031 | U16: =I16 -> 2032 | V16: =J16 -> 2033 | W16: =K16 -> 2034 | ... Z16: =N16 -> 2037-2038 | AB16: =P16 -> 2027 | AC16: =Q16 -> 2028 | AD16: =R16 -> 2029 | AE16: =S16 -> 2030 | AF16: =T16 -> 2031 | AG16: =U16 -> 2032 | AH16: =V16 -> 2033 | AI16: =W16 -> 2034 | ... AL16: =Z16 -> 2037-2038 | AN16: =AB16 -> 2027 | AO16: =AC16 -> 2028 | AP16: =AD16 -> 2029 | AQ16: =AE16 -> 2030 | AR16: =AF16 -> 2031 | AS16: =AG16 -> 2032 | AT16: =AH16 -> 2033 | AU16: =AI16 -> 2034 | ... AX16: =AL16 -> 2037-2038 | AZ16: =AN16 -> 2027 | BA16: =AO16 -> 2028 | BB16: =AP16 -> 2029 | BC16: =AQ16 -> 2030 | BD16: =AR16 -> 2031 | BE16: =AS16 -> 2032 | BF16: =AT16 -> 2033 | BG16: =AU16 -> 2034 | ... BJ16: =AX16 -> 2037-2038 | BL16: =AZ16 -> 2027 | BM16: =BA16 -> 2028 | BN16: =BB16 -> 2029 | BO16: =BC16 -> 2030 | BP16: =BD16 -> 2031 | BQ16: =BE16 -> 2032 | BR16: =BF16 -> 2033 | BS16: =BG16 -> 2034 | ... BV16: =BJ16 -> 2037-2038 | BX16: =BL16 -> 2027 | BY16: =BM16 -> 2028 | BZ16: =BN16 -> 2029 | CA16: =BO16 -> 2030 | CB16: =BP16 -> 2031 | CC16: =BQ16 -> 2032 | CD16: =BR16 -> 2033 | CE16: =BS16 -> 2034 | ... CH16: =BV16 -> 2037-2038
A17: 1 | B17: =A17+1 -> 2 | C17: =B17+1 -> 3 | D17: =C17+1 -> 4 | E17: =D17+1 -> 5 | F17: =E17+1 -> 6 | G17: =F17+1 -> 7 | H17: =G17+1 -> 8 | I17: =H17+1 -> 9 | ... N17: =M17+1 -> 14 | O17: 5 | P17: =O17+1 -> 6 | Q17: =P17+1 -> 7 | R17: =Q17+1 -> 8 | S17: =R17+1 -> 9 | T17: =S17+1 -> 10 | U17: =T17+1 -> 11 | V17: =U17+1 -> 12 | W17: =V17+1 -> 13 | ... Z17: =Y17+1 -> 16 | AA17: 7 | AB17: =AA17+1 -> 8 | AC17: =AB17+1 -> 9 | AD17: =AC17+1 -> 10 | AE17: =AD17+1 -> 11 | AF17: =AE17+1 -> 12 | AG17: =AF17+1 -> 13 | AH17: =AG17+1 -> 14 | AI17: =AH17+1 -> 15 | ... AL17: =AK17+1 -> 18 | AM17: 9 | AN17: =AM17+1 -> 10 | AO17: =AN17+1 -> 11 | AP17: =AO17+1 -> 12 | AQ17: =AP17+1 -> 13 | AR17: =AQ17+1 -> 14 | AS17: =AR17+1 -> 15 | AT17: =AS17+1 -> 16 | AU17: =AT17+1 -> 17 | ... AX17: =AW17+1 -> 20 | AY17: 11 | AZ17: =AY17+1 -> 12 | BA17: =AZ17+1 -> 13 | BB17: =BA17+1 -> 14 | BC17: =BB17+1 -> 15 | BD17: =BC17+1 -> 16 | BE17: =BD17+1 -> 17 | BF17: =BE17+1 -> 18 | BG17: =BF17+1 -> 19 | ... BJ17: =BI17+1 -> 22 | BK17: 13 | BL17: =BK17+1 -> 14 | BM17: =BL17+1 -> 15 | BN17: =BM17+1 -> 16 | BO17: =BN17+1 -> 17 | BP17: =BO17+1 -> 18 | BQ17: =BP17+1 -> 19 | BR17: =BQ17+1 -> 20 | BS17: =BR17+1 -> 21 | ... BV17: =BU17+1 -> 24 | BW17: 15 | BX17: =BW17+1 -> 16 | BY17: =BX17+1 -> 17 | BZ17: =BY17+1 -> 18 | CA17: =BZ17+1 -> 19 | CB17: =CA17+1 -> 20 | CC17: =CB17+1 -> 21 | CD17: =CC17+1 -> 22 | CE17: =CD17+1 -> 23 | ... CH17: =CG17+1 -> 26
A18: 1 | B18: БМК с.Новоселка | C18: - | D18: - | E18: - | F18: - | G18: - | H18: - | I18: - | J18: - | K18: - | L18: - | M18: - | N18: - | O18: 0 | P18: 0 | Q18: 0 | R18: 0 | S18: 0 | T18: 0 | U18: 0 | V18: 0 | W18: 0 | X18: 0 | Y18: 0 | Z18: 0 | AA18: ='№3 ИП-ТС'!E15 -> - | AB18: ='№3 ИП-ТС'!F15 -> - | AC18: ='№3 ИП-ТС'!G15 -> - | AD18: ='№3 ИП-ТС'!H15 -> - | AE18: ='№3 ИП-ТС'!I15 -> - | AF18: ='№3 ИП-ТС'!J15 -> - | AG18: ='№3 ИП-ТС'!K15 -> - | AH18: ='№3 ИП-ТС'!L15 -> - | ... AL18: ='№3 ИП-ТС'!P15 -> - | AM18: - | AN18: - | AO18: - | AP18: - | AQ18: - | AR18: - | AS18: - | AT18: - | AU18: - | AV18: - | AW18: - | AX18: - | AY18: - | AZ18: - | BA18: - | BB18: - | BC18: - | BD18: - | BE18: - | BF18: - | BG18: - | BH18: - | BI18: - | BJ18: - | BK18: ='№3 ИП-ТС'!E18 -> - | BL18: ='№3 ИП-ТС'!F18 -> - | BM18: ='№3 ИП-ТС'!G18 -> - | BN18: ='№3 ИП-ТС'!H18 -> - | BO18: ='№3 ИП-ТС'!I18 -> - | BP18: ='№3 ИП-ТС'!J18 -> - | BQ18: ='№3 ИП-ТС'!K18 -> - | BR18: ='№3 ИП-ТС'!L18 -> - | ... BV18: ='№3 ИП-ТС'!P18 -> - | BW18: ='№3 ИП-ТС'!E21 -> - | BX18: ='№3 ИП-ТС'!F21 -> - | BY18: ='№3 ИП-ТС'!G21 -> - | BZ18: ='№3 ИП-ТС'!H21 -> - | CA18: ='№3 ИП-ТС'!I21 -> - | CB18: ='№3 ИП-ТС'!J21 -> - | CC18: ='№3 ИП-ТС'!K21 -> - | CD18: ='№3 ИП-ТС'!L21 -> - | ... CH18: ='№3 ИП-ТС'!P21 -> - | DO18: Приложение 4 к постановлению Департамента энергетики
DO19: и тарифов Ивановской области от от 09.09.2026 № 29-ип(тс)/1
DO20: Форма № 4-ИП ТС

Sheet №5 ИП-ТС
E1: Приложение 2/5 к постановлению Департамента энергетики
E2: и тарифов Ивановской области от 09.09.2026 № 29/1
F3: Форма N 5-ИП ТС
A4: Финансовый план инвестиционной программы в сфере теплоснабжения
A5: ='№1 ИП-ТС'!A7:B7 -> ИП Шорохов С.В.
A6: на 2027 год
A8: N п/п | B8: Источники финансирования | C8: Расходы на реализацию инвестиционной программы (тыс. руб., без НДС) (с использованием прогнозных индексов цен) | T8: По мероприятиям, согласно Формы № 2-ИП ТС
C9: Всего | D9: в т.ч. по видам деятельности | F9: Всего | G9: Профинансировано к 2027 году | H9: 2027 | I9: =H9+1 -> 2028 | J9: =I9+1 -> 2029 | K9: =J9+1 -> 2030 | L9: =K9+1 -> 2031 | M9: =L9+1 -> 2032 | N9: =M9+1 -> 2033 | O9: =N9+1 -> 2034 | P9: =O9+1 -> 2035 | ... S9: =R9+1 -> 2038
D10: Производство тепловой энергии | E10: Передача тепловой энергии
A11: =COLUMN() -> 1 | B11: =COLUMN() -> 2 | C11: =COLUMN() -> 3 | D11: 3.1. | E11: 3.2. | F11: 4 | G11: 5 | H11: =G11+1 -> 6 | I11: =H11+1 -> 7 | J11: =I11+1 -> 8 | K11: =J11+1 -> 9 | L11: =K11+1 -> 10 | M11: =L11+1 -> 11 | N11: =M11+1 -> 12 | O11: =N11+1 -> 13 | ... S11: =R11+1 -> 17 | T11: 7
A12: =B8 -> Источники финансирования
A13: 1. | B13: Собственные средства | C13: 545.20628 | D13: 545.20628 | E13: 0 | F13: 545.20628 | G13: 0 | H13: 545.20628 | I13: 0 | J13: 0 | K13: 0 | L13: 0 | M13: 0 | N13: 0 | O13: 0 | P13: 0 | Q13: 0 | R13: 0 | S13: 0
A14: 1.1. | B14: амортизационные отчисления с выделением результатов переоценки основных средств и нематериальных активов | C14: 545.20628 | D14: 545.20628 | E14: 0 | F14: 545.20628 | G14: 0 | H14: 545.20628 | I14: 0 | J14: 0 | K14: 0 | L14: 0 | M14: 0 | N14: 0 | O14: 0 | P14: 0 | Q14: 0 | R14: 0 | S14: 0
A15: 1.1.1 | B15: Установка системы видеонаблюдения по периметру котельной с.Новоселка | C15: 207.5333 | D15: 207.5333 | E15: 0 | F15: 207.5333 | G15: 0 | H15: 207.5333 | I15: 0 | J15: 0 | K15: 0 | L15: 0 | M15: 0 | N15: 0 | O15: 0 | P15: 0 | Q15: 0 | R15: 0 | S15: 0 | T15: 6.1
A16: 1.1.2 | B16: Установка основного ограждения по периметру котельной с. Новоселка | C16: 337.67298 | D16: 337.67298 | E16: 0 | F16: 337.67298 | G16: 0 | H16: 337.67298 | I16: 0 | J16: 0 | K16: 0 | L16: 0 | M16: 0 | N16: 0 | O16: 0 | P16: 0 | Q16: 0 | R16: 0 | S16: 0 | T16: 6.2
A17: 1.2. | B17: расходы на капитальные вложения (инвестиции), финансируемые за счет нормативной прибыли, учитываемой в необходимой валовой выручке | C17: 0 | D17: 0 | E17: 0 | F17: 0 | G17: 0 | H17: 0 | I17: 0 | J17: 0 | K17: 0 | L17: 0 | M17: 0 | N17: 0 | O17: 0 | P17: 0 | Q17: 0 | R17: 0 | S17: 0
A18: 1.3. | B18: Экономия расходов | C18: 0 | D18: 0 | E18: 0 | F18: 0 | G18: 0 | H18: 0 | I18: 0 | J18: 0 | K18: 0 | L18: 0 | M18: 0 | N18: 0 | O18: 0 | P18: 0 | Q18: 0 | R18: 0 | S18: 0
A19: 1.3.1. | B19: достигнутая в результате реализации мероприятий инвестиционной программы | C19: 0 | D19: 0 | E19: 0 | F19: 0 | G19: 0 | H19: 0 | I19: 0 | J19: 0 | K19: 0 | L19: 0 | M19: 0 | N19: 0 | O19: 0 | P19: 0 | Q19: 0 | R19: 0 | S19: 0
A20: 1.3.2. | B20: связанная с сокращением потерь в тепловых сетях, сменой видов и (или) марки основного и (или) резервного топлива на источниках тепловой энергии, реализацией энергосервесного договора (контракта) в размере, определенном по решению регулируемой организации | C20: 0 | D20: 0 | E20: 0 | F20: 0 | G20: 0 | H20: 0 | I20: 0 | J20: 0 | K20: 0 | L20: 0 | M20: 0 | N20: 0 | O20: 0 | P20: 0 | Q20: 0 | R20: 0 | S20: 0
A21: 1.4. | B21: плата за подключение (технологическое присоединение) к системам централизованного теплоснабжения (раздельно по каждой системе, если регулируемая организация эксплуатирует несколько таких систем) | C21: 0 | D21: 0 | E21: 0 | F21: 0 | G21: 0 | H21: 0 | I21: 0 | J21: 0 | K21: 0 | L21: 0 | M21: 0 | N21: 0 | O21: 0 | P21: 0 | Q21: 0 | R21: 0 | S21: 0
A22: 1.5. | B22: расходы на уплату лизинговых платежей по договору финансовой аренды (лизинга) | C22: 0 | D22: 0 | E22: 0 | F22: 0 | G22: 0 | H22: 0 | I22: 0 | J22: 0 | K22: 0 | L22: 0 | M22: 0 | N22: 0 | O22: 0 | P22: 0 | Q22: 0 | R22: 0 | S22: 0
A23: 2. | B23: Иные собственные средства, за исключением средств, указанных в разделе 1 | C23: 0 | D23: 0 | E23: 0 | F23: 0 | G23: 0 | H23: 0 | I23: 0 | J23: 0 | K23: 0 | L23: 0 | M23: 0 | N23: 0 | O23: 0 | P23: 0 | Q23: 0 | R23: 0 | S23: 0
A24: 3. | B24: Средства, привлеченные на возвратной основе | C24: 0 | D24: 0 | E24: 0 | F24: 0 | G24: 0 | H24: 0 | I24: 0 | J24: 0 | K24: 0 | L24: #REF! | M24: #REF! | N24: #REF! | O24: #REF! | P24: #REF! | Q24: #REF! | R24: #REF! | S24: #REF!
A25: 3.1. | B25: кредиты | C25: 0 | D25: 0 | E25: 0 | F25: 0 | G25: 0 | H25: 0 | I25: 0 | J25: 0 | K25: 0 | L25: 0 | M25: 0 | N25: 0 | O25: 0 | P25: 0 | Q25: 0 | R25: 0 | S25: 0
A26: 3.2. | B26: займы организаций | C26: 0 | D26: 0 | E26: 0 | F26: 0 | G26: 0 | H26: 0 | I26: 0 | J26: 0 | K26: 0 | L26: #REF! | M26: #REF! | N26: #REF! | O26: #REF! | P26: #REF! | Q26: #REF! | R26: #REF! | S26: #REF!
A27: 3.3. | B27: прочие привлеченные средства | C27: 0 | D27: 0 | E27: 0 | F27: 0 | G27: 0 | H27: 0 | I27: 0 | J27: 0 | K27: 0 | L27: 0 | M27: 0 | N27: 0 | O27: 0 | P27: 0 | Q27: 0 | R27: 0 | S27: 0
A28: 4. | B28: Бюджетные средства по каждой системе ццентрализованного теплоснабжения с выделением расходов концедента на строительство, модернизацию и (или) реконструкцию объекта концессионного соглашения по каждой системе централизованного теплоснабжения при наличии таких расходов | C28: 0 | D28: 0 | E28: 0 | F28: 0 | G28: 0 | H28: 0 | I28: 0 | J28: 0 | K28: 0 | L28: 0 | M28: 0 | N28: 0 | O28: 0 | P28: 0 | Q28: 0 | R28: 0 | S28: 0
A29: 5. | B29: Прочие источники финансирования | C29: 0 | D29: 0 | E29: 0 | F29: 0 | G29: 0 | H29: 0 | I29: 0 | J29: 0 | K29: 0 | L29: 0 | M29: 0 | N29: 0 | O29: 0 | P29: 0 | Q29: 0 | R29: 0 | S29: 0
B30: ИТОГО по программе | C30: 545.20628 | D30: 545.20628 | E30: 0 | F30: 545.20628 | G30: 0 | H30: 545.20628 | I30: 0 | J30: 0 | K30: 0 | L30: #REF! | M30: #REF! | N30: #REF! | O30: #REF! | P30: #REF! | Q30: #REF! | R30: #REF! | S30: #REF!
A31: Источники возврата вложенных средств
A32: 1. | B32: Собственные средства | C32: =D32+E32 -> #REF! | D32: =D33+D37+D38+D39 -> #REF! | E32: =E33+E37+E38+E39 -> 0 | F32: =SUM(G32:S32) -> #REF! | G32: =G33+G37+G38+G39 -> 0 | H32: =H33+H37+H38+H39 -> #REF! | I32: =I33+I37+I38+I39 -> #REF! | J32: =J33+J37+J38+J39 -> #REF! | K32: =K33+K37+K38+K39 -> #REF! | L32: =L33+L37+L38+L39 -> #REF! | M32: =M33+M37+M38+M39 -> #REF! | N32: =N33+N37+N38+N39 -> #REF! | ... S32: =S33+S37+S38+S39 -> #REF!
A33: 1.1 | B33: амортизационные отчисления, в том числе: | C33: =SUM(C34:C36) -> #REF! | D33: =SUM(D34:D36) -> #REF! | E33: =SUM(E34:E36) -> 0 | F33: =SUM(F34:F36) -> #REF! | G33: =SUM(G34:G36) -> 0 | H33: =SUM(H34:H36) -> #REF! | I33: =SUM(I34:I36) -> #REF! | J33: =SUM(J34:J36) -> #REF! | ... S33: =SUM(S34:S36) -> #REF!
A34: 1.1.1 | B34: =B15 -> Установка системы видеонаблюдения по периметру котельной с.Новоселка | C34: =C15 -> 207.5333 | D34: =F34 -> #REF! | E34: 0 | F34: =SUM(G34:S34) -> #REF! | G34: 0 | H34: =#REF! -> #REF! | I34: =#REF! -> #REF! | J34: =#REF! -> #REF! | K34: =#REF! -> #REF! | L34: =#REF! -> #REF! | M34: =#REF! -> #REF! | N34: =#REF! -> #REF! | O34: =#REF! -> #REF! | ... S34: =#REF! -> #REF! | T34: =T15 -> 6.1
A35: 1.1.2 | B35: =B16 -> Установка основного ограждения по периметру котельной с. Новоселка | C35: =C16 -> 337.67298 | D35: =F35 -> #REF! | E35: 0 | F35: =SUM(G35:S35) -> #REF! | G35: 0 | H35: =#REF! -> #REF! | I35: =#REF! -> #REF! | J35: =#REF! -> #REF! | K35: =#REF! -> #REF! | L35: =#REF! -> #REF! | M35: =#REF! -> #REF! | N35: =#REF! -> #REF! | O35: =#REF! -> #REF! | ... S35: =#REF! -> #REF! | T35: =T16 -> 6.2
A36: 1.1.3 | B36: =#REF! -> #REF! | C36: =#REF!+#REF! -> #REF! | D36: =F36 -> #REF! | E36: 0 | F36: =SUM(G36:S36) -> #REF! | G36: 0 | H36: =#REF! -> #REF! | I36: =#REF! -> #REF! | J36: =#REF! -> #REF! | K36: =#REF! -> #REF! | L36: =#REF! -> #REF! | M36: =#REF! -> #REF! | N36: =#REF! -> #REF! | O36: =#REF! -> #REF! | ... T36: =#REF! -> #REF!
A37: 1.2. | B37: прибыль, направленная на инвестиции | C37: =D37+E37 -> 0 | D37: 0 | E37: 0 | F37: =SUM(G37:S37) -> 0 | G37: 0 | H37: 0 | I37: 0 | J37: 0 | K37: 0 | L37: 0 | M37: 0 | N37: 0 | O37: 0 | P37: =O37 -> 0 | Q37: =P37 -> 0 | R37: =Q37 -> 0 | S37: =R37 -> 0
A38: 1.3. | B38: средства, полученные за счет платы за подключение | C38: =SUM(G38:S38) -> 0 | D38: 0 | E38: =SUM(G38:S38) -> 0 | F38: =SUM(G38:S38) -> 0 | G38: 0 | H38: 0 | I38: 0 | J38: 0 | K38: 0 | L38: 0 | M38: 0 | N38: 0 | O38: 0 | P38: =O38 -> 0 | Q38: =P38 -> 0 | R38: =Q38 -> 0 | S38: =R38 -> 0
A39: 1.4. | B39: прочие собственные средства, в т.ч. средства от эмиссии ценных бумаг | C39: =SUM(G39:S39) -> 0 | D39: 0 | E39: =SUM(G39:S39) -> 0 | F39: =SUM(G39:S39) -> 0 | G39: 0 | H39: 0 | I39: 0 | J39: 0 | K39: 0 | L39: 0 | M39: 0 | N39: 0 | O39: 0 | P39: =O39 -> 0 | Q39: =P39 -> 0 | R39: =Q39 -> 0 | S39: =R39 -> 0
A40: 2. | B40: Бюджетное финансирование | C40: 0 | D40: 0 | E40: 0 | F40: 0 | G40: 0 | H40: 0 | I40: 0 | J40: 0 | K40: 0 | L40: 0 | M40: 0 | N40: 0 | O40: 0 | P40: 0 | Q40: 0 | R40: 0 | S40: 0
A41: 3. | B41: Средства концедента | C41: =SUM(G41:S41) -> 0 | D41: 0 | E41: =SUM(G41:S41) -> 0 | F41: 0 | G41: 0 | H41: 0 | I41: 0 | J41: 0 | K41: 0 | L41: 0 | M41: 0 | N41: 0 | O41: 0 | P41: 0 | Q41: 0 | R41: 0 | S41: 0
...
