Workbook

Sheet №1 ИП-ТС
B1: Приложение 4/1 к протоколу Департамента энергетики
B2: и тарифов Ивановской области от 09.09.2026 № 29/1
B3: Форма № 1-ИП ТС
A6: Инвестиционная программа
A7: организации, осуществляющей регулируемые виды деятельности
A8: в сфере теплоснабжения
A10: Паспорт инвестиционной программы организации, осуществляющей
A11: регулируемые виды деятельности в сфере теплоснабжения
A12: ИП Шорохов С.В.
A13: (наименование регулируемой организации)
A15: Наименование регулируемой организации, в отношении которой разрабатывается инвестиционная программа в сфере теплоснабжения | B15: Индивидуальный предприниматель Шорохов Сергей Вадимович
A16: Местонахождение регулируемой организации | B16: Ивановская область, г Родники, мкр. Южный, д. 24, кв. 23
A17: Сроки реализации инвестиционной программы | B17: 2027 - 2030 годы
A18: Лицо, ответственное за разработку инвестиционной программы | B18: Индивидуальный предприниматель Шорохов Сергей Вадимович
A19: Контакты ответственных за разработку инвестиционной программы лиц | B19: 8-920-347-87-54
A20: Наименование исполнительного органа субъекта Российской Федерации или органа местного самоуправления, утвердившего инвестиционную программу | B20: Департамент энергетики и тарифов Ивановской области
A21: Местонахождение исполнительного органа субъекта Российской Федерации или органа местного самоуправления, утвердившего инвестиционную программу | B21: 153022, г. Иваново ул. Велижская, 8
A22: Должностное лицо уполномоченного ответственного органа, утвердившее инвестиционную программу | B22: Член Правительства Ивановской области -директор Департамента энергетики и тарифов Ивановской области Е.Н. Морева
A23: Контакты ответственных за утверждение инвестиционной программы лиц | B23: det@ivreg.ru +7 (4932) 93-85-93
A24: Наименование органа местного самоуправления, согласовавшего инвестиционную программу | B24: Администрация Тейковского муниципального района Ивановской области
A25: Местонахождение органа местного самоуправления, согласовавшего инвестиционную программу | B25: 155040, Ивановская область, город Тейково, ул. Октябрьская д.2А
A26: Должностное лицо уполномоченного ответственного органа, согласовавшее инвестиционную программу | B26: В.А. Катков, Глава Тейковского муниципального района Ивановской области
A27: Контакты ответственных за согласование инвестиционной программы лиц | B27: Тел./факс: 8-(49343)-2-12-04

Sheet №2 ИП ТС
P1: Приложение 4/2 к протоколу Департамента энергетики | AG1: Приложение 4/2 к протоколу Департамента энергетики | AR1: Приложение 4/2 к протоколу Департамента энергетики
P2: и тарифов Ивановской области от от 09.09.2026 № 29/1 | AG2: и тарифов Ивановской области от от 09.09.2026 № 29/1 | AR2: и тарифов Ивановской области от от 09.09.2026 № 29/1
P3: Форма № 2-ИП ТС | AG3: Форма № 2-ИП ТС | AR3: Форма № 2-ИП ТС
A4: Инвестиционная программа
A5: ='№1 ИП-ТС'!A12:B12 -> ИП Шорохов С.В.
A6: (наименование регулируемой организации)
A7: в сфере теплоснабжения на 2027-2030 годы
A9: N п/п | B9: Наименование мероприятий | C9: Кадастровый номер объекта (участка объекта) | D9: Вид объекта | E9: Описание и место расположения объекта | F9: Основные технические характеристики | P9: Год начала реализации | Q9: Год окончания реализации | R9: Расходы на реализацию мероприятий в прогнозных ценах, тыс. руб. без НДС | AH9: Расшифровка источников финансирования инвестиционной программы, тыс. руб. Без НДС
F10: Наименование и значение показателя | R10: Плановые расходы | U10: Профинансировано к 2027 году | AG10: Остаток финансирования | AH10: Амортизация (стр. 1.1 ФП) | AI10: Прибыль, направленная на инвестиции (стр. 1.2 ФП) | AJ10: Средства, полученные за счет платы за подключение (стр. 1.3 ФП) | AK10: Прочие собственные средства (стр. 1.4 ФП) | AL10: Экономия расходов (стр. 1.5 ФП) | AN10: Расходы на оплату лизинговых платежей по договору финансовой аренды (лизинга) (стр. 1.6 ФП) | AO10: Иные собственные средства (стр. 2 ФП) | AP10: Привлеченные средства на возвратной основе (стр 3 ФП) | AQ10: Бюджетные средства по каждой системе централизованного теплоснабжения с выделением расходов концедента на строительство, модернизацию и (или) реконструкцию объекта концессионного соглашения по каждой системе централизованного теплоснабжения при наличии таких расходов (стр. 4 ФП) | AR10: Прочие источники финансирования (стр. 5 ФП)
F11: до реализации мероприятия | K11: после реализации мероприятия
F12: Тепловая сеть | J12: Тепловая нагрузка, Гкал/ч | K12: Тепловая сеть | O12: Тепловая нагрузка, Гкал/ч | R12: Всего: | S12: в том числе: | AL12: в результате реализации мероприятий инвестиционной программы | AM12: связанную с сокращением потерь в тепловых сетях, сменой видов и (или) марки основного и (или) резервного топлива на источниках тепловой энергии, реализацией энергосервисного договора (контракта) в размере, определенном по решению регулируемой организации, плату за подключение (технологическое присоединение) к системам централизованного теплоснабжения (раздельно по каждой системе, если регулируемая организация эксплуатирует несколько таких систем
F13: Условный диаметр, мм | G13: Пропускная способность, т/ч | H13: Протяженность (в однотрубном исчислении), км | I13: Способ прокладки | K13: Условный диаметр, мм | L13: Пропускная способность, т/ч | M13: Протяженность (в однотрубном исчислении), км | N13: Способ прокладки | S13: ПИР | T13: СМР | V13: 2027 | W13: =V13+1 -> 2028 | X13: =W13+1 -> 2029 | Y13: =X13+1 -> 2030 | Z13: =Y13+1 -> 2031 | AA13: =Z13+1 -> 2032 | AB13: =AA13+1 -> 2033 | AC13: =AB13+1 -> 2034 | AD13: =AC13+1 -> 2035 | AE13: =AD13+1 -> 2036 | AF13: 2037-2038
A14: 1 | B14: 2 | C14: 3 | D14: 4 | E14: 5 | F14: 6.1 | G14: 6.2 | H14: 6.3 | I14: 6.4 | J14: 6.5 | K14: 7.1 | L14: 7.2 | M14: 7.3 | N14: 7.4 | O14: 7.5 | P14: 8 | Q14: 9 | R14: 10.1 | S14: 10.2 | T14: 10.3 | U14: 10.4 | V14: 10.7 | W14: 10.8 | X14: 10.9 | Y14: 10.10 | Z14: 10.11 | AA14: 10.12 | AB14: 10.13 | AC14: 10.14 | AD14: 10.15 | AE14: 10.16 | AF14: 10.17 | AG14: 10.11 | AH14: 11.1 | AI14: 11.2 | AJ14: 11.3 | AK14: 11.4 | AL14: 11.5.1 | AM14: 11.5.2 | AN14: 11.6 | AO14: 11.7 | AP14: 11.8 | AQ14: 11.9 | AR14: 11.10
A15: Группа 1. Строительство, реконструкция или модернизация объектов в целях подключения потребителей:
A16: 1.1. Строительство новых тепловых сетей в целях подключения потребителей
A17: 1.2. Строительство иных объектов системы централизованного теплоснабжения, за исключением тепловых сетей, в целях подключения потребителей
A18: 1.3. Увеличение пропускной способности существующих тепловых сетей в целях подключения потребителей
A19: 1.4. Увеличение мощности и производительности существующих объектов централизованного теплоснабжения, за исключением тепловых сетей, в целях подключения потребителей
A20: Всего по группе 1 | C20: - | D20: - | E20: - | F20: - | G20: - | H20: - | I20: - | J20: - | K20: - | L20: - | M20: - | N20: - | O20: - | P20: - | Q20: - | R20: - | S20: - | T20: - | U20: - | V20: - | W20: - | X20: - | Y20: - | Z20: - | AA20: - | AB20: - | AC20: - | AD20: - | AE20: - | AF20: - | AG20: - | AH20: - | AI20: - | AJ20: - | AK20: - | AL20: - | AM20: - | AN20: - | AO20: - | AP20: - | AQ20: - | AR20: -
A21: Группа 2. Строительство новых объектов системы централизованного теплоснабжения, не связанных с подключением новых потребителей, в том числе строительство новых тепловых сетей
A22: 2.1. | R22: 0 | S22: 0 | T22: 0 | U22: 0 | V22: 0 | W22: 0 | X22: 0 | Y22: 0 | Z22: 0 | AA22: 0 | AB22: 0 | AC22: 0 | AD22: 0 | AE22: 0 | AF22: 0 | AG22: 0 | AH22: 0 | AI22: 0 | AJ22: 0 | AK22: 0 | AL22: 0 | AM22: 0 | AN22: 0 | AO22: 0 | AP22: 0 | AQ22: 0 | AR22: 0
A23: 2.2. | R23: 0 | S23: 0 | T23: 0 | U23: 0 | V23: 0 | W23: 0 | X23: 0 | Y23: 0 | Z23: 0 | AA23: 0 | AB23: 0 | AC23: 0 | AD23: 0 | AE23: 0 | AF23: 0 | AG23: 0 | AH23: 0 | AI23: 0 | AJ23: 0 | AK23: 0 | AL23: 0 | AM23: 0 | AN23: 0 | AO23: 0 | AP23: =R23-AH23 -> 0 | AQ23: 0 | AR23: 0
A24: Всего по группе 2 | C24: - | D24: - | E24: - | F24: - | G24: - | H24: - | I24: - | J24: - | K24: - | L24: - | M24: - | N24: - | O24: - | P24: - | Q24: - | R24: =R22+R23 -> 0 | S24: =S22+S23 -> 0 | T24: =T22+T23 -> 0 | U24: =U22+U23 -> 0 | V24: =V22+V23 -> 0 | W24: =W22+W23 -> 0 | X24: =X22+X23 -> 0 | Y24: =Y22+Y23 -> 0 | ... AP24: =AP22+AP23 -> 0 | AQ24: 0 | AR24: =AR22+AR23 -> 0
A25: Группа 3. Реконструкция или модернизация существующих объектов централизованного теплоснабжения в целях снижения уровня износа существующих объектов системы централизованного теплоснабжения и (или) поставки энергии от разных источников
A26: 3.1. Реконструкция или модернизация существующих тепловых сетей
A27: 3.1.1 | R27: 0 | S27: 0 | T27: 0 | U27: 0 | V27: 0 | W27: 0 | X27: 0 | Y27: 0 | Z27: 0 | AA27: 0 | AB27: 0 | AC27: 0 | AD27: 0 | AE27: 0 | AF27: 0 | AG27: 0 | AH27: 0 | AI27: 0 | AJ27: 0 | AK27: 0 | AL27: 0 | AM27: 0 | AN27: 0 | AO27: 0 | AP27: =R27-AQ27 -> 0 | AQ27: 0 | AR27: 0
A28: 3.1.2 | R28: 0 | S28: 0 | T28: 0 | U28: 0 | V28: 0 | W28: 0 | X28: 0 | Y28: 0 | Z28: 0 | AA28: 0 | AB28: 0 | AC28: 0 | AD28: 0 | AE28: 0 | AF28: 0 | AG28: 0 | AH28: 0 | AI28: 0 | AJ28: 0 | AK28: 0 | AL28: 0 | AM28: 0 | AN28: 0 | AO28: 0 | AP28: =R28-AQ28 -> 0 | AQ28: 0 | AR28: 0
A29: 3.2. Реконструкция или модернизация существующих объектов системы централизованного теплоснабжения, за исключением тепловых сетей
A30: 3.2.1 | B30: Установка резервного котлоагрегата в котельной с. Морозово | C30: 37:18:050102:1316 | D30: Оборудование котельной | E30: БМК с. Морозово, ул. Молодежная, д. 1-Г | F30: - | G30: - | H30: - | I30: - | J30: 0.3 | K30: - | L30: - | M30: - | N30: - | O30: 0.3 | P30: 2027 | Q30: 2027 | R30: 343.2486 | S30: 0 | T30: 343.2486 | U30: 0 | V30: 343.2486 | W30: 0 | X30: 0 | Y30: 0 | Z30: 0 | AA30: 0 | AB30: 0 | AC30: 0 | AD30: 0 | AE30: 0 | AF30: 0 | AG30: 0 | AH30: 176.98372 | AI30: 0 | AJ30: 0 | AK30: 0 | AL30: 0 | AM30: 0 | AN30: 0 | AO30: 0 | AP30: ='№5 ИП-ТС'!H30 -> 166.26488 | AQ30: 0 | AR30: 0
A31: 3.2.2 | R31: 0 | S31: 0 | T31: 0 | U31: 0 | V31: 0 | W31: 0 | X31: 0 | Y31: 0 | Z31: 0 | AA31: 0 | AB31: 0 | AC31: 0 | AD31: 0 | AE31: 0 | AF31: 0 | AG31: 0 | AH31: 0 | AI31: 0 | AJ31: 0 | AK31: 0 | AL31: 0 | AM31: 0 | AN31: 0 | AO31: 0 | AP31: =R31-AQ31 -> 0 | AQ31: 0 | AR31: 0
A32: Всего по группе 3 | C32: - | D32: - | E32: - | F32: - | G32: - | H32: - | I32: - | J32: - | K32: - | L32: - | M32: - | N32: - | O32: - | P32: - | Q32: - | R32: 343.2486 | S32: 0 | T32: 343.2486 | U32: 0 | V32: 343.2486 | W32: 0 | X32: 0 | Y32: 0 | Z32: 0 | AA32: 0 | AB32: 0 | AC32: 0 | AD32: 0 | AE32: 0 | AF32: 0 | AG32: 0 | AH32: 176.98372 | AI32: 0 | AJ32: =SUM(AJ27:AJ28)+AJ30+AJ31 -> 0 | AK32: =SUM(AK27:AK28)+AK30+AK31 -> 0 | AL32: =SUM(AL27:AL28)+AL30+AL31 -> 0 | AM32: =SUM(AM27:AM28)+AM30+AM31 -> 0 | AN32: =SUM(AN27:AN28)+AN30+AN31 -> 0 | AO32: =SUM(AO27:AO28)+AO30+AO31 -> 0 | AP32: =SUM(AP27:AP28)+AP30+AP31 -> 166.26488 | AQ32: =SUM(AQ27:AQ28)+AQ30+AQ31 -> 0 | AR32: =SUM(AR27:AR28)+AR30+AR31 -> 0
A33: Группа 4. Мероприятия, направленные на снижение негативного воздействия на окружающую среду, достижение плановых значений показателей надежности и энергетической эффективности объектов теплоснабжения, повышение эффективности работы систем централизованного теплоснабжения
A34: Всего по группе 4 | C34: - | D34: - | E34: - | F34: - | G34: - | H34: - | I34: - | J34: - | K34: - | L34: - | M34: - | N34: - | O34: - | P34: - | Q34: - | R34: - | S34: - | T34: - | U34: - | V34: - | W34: - | X34: - | Y34: - | Z34: - | AA34: - | AB34: - | AC34: - | AD34: - | AE34: - | AF34: - | AG34: - | AH34: - | AI34: - | AJ34: - | AK34: - | AL34: - | AM34: - | AN34: - | AO34: - | AP34: - | AQ34: - | AR34: -
A35: Группа 5. Вывод из эксплуатации, консервация и демонтаж объектов системы централизованного теплоснабжения
A36: 5.1. Вывод из эксплуатации, консервация и демонтаж тепловых сетей
A37: 5.2. Вывод из эксплуатации, консервация и демонтаж иных объектов системы централизованного теплоснабжения, за исключением тепловых сетей
A38: Всего по группе 5 | D38: - | E38: - | F38: - | G38: - | H38: - | I38: - | J38: - | K38: - | L38: - | M38: - | N38: - | O38: - | P38: - | Q38: - | R38: - | S38: - | T38: - | U38: - | V38: - | W38: - | X38: - | Y38: - | Z38: - | AA38: - | AB38: - | AC38: - | AD38: - | AE38: - | AF38: - | AG38: - | AH38: - | AI38: - | AJ38: - | AK38: - | AL38: - | AM38: - | AN38: - | AO38: - | AP38: - | AQ38: - | AR38: -
A39: Группа 6. Мероприятия, предусматривающие капитальные вложения в объекты основных средств и нематериальные активы регулируемой организации, обусловленные необходимостью соблюдения регулируемыми организациями обязательных требований, установленных законодательством Российской Федерации и связанных с осуществлением деятельности в сфере теплоснабжения, включая мероприятия по обеспечению безопасности и антитеррористической защищенности объектов топливно-энергетического комплекса, безопасности критической информационной инфраструктуры.
A40: 6.1 | B40: Установка системы видеонаблюдения по периметру котельной с.Морозово | C40: 37:18:050102:1316 | D40: прочие | E40: БМК с. Морозово, ул. Молодежная, д. 1-Г | P40: 2027 | Q40: 2027 | R40: 207.5333 | S40: 0 | T40: 207.5333 | U40: 0 | V40: 207.5333 | W40: 0 | X40: 0 | Y40: 0 | Z40: 0 | AA40: 0 | AB40: 0 | AC40: 0 | AD40: 0 | AE40: 0 | AF40: 0 | AG40: 0 | AH40: 207.5333 | AI40: 0 | AJ40: 0 | AK40: 0 | AL40: 0 | AM40: 0 | AN40: 0 | AO40: 0 | AP40: =R40-AH40 -> 0 | AQ40: 0 | AR40: 0
A41: 6.2 | B41: Установка основного ограждения по периметру котельной с. Морозово | C41: 37:18:050 102:1265 | D41: прочие | E41: с. Морозово, ул. Молодежная, д. 1-Г | P41: 2027 | Q41: 2027 | R41: 337.67298 | S41: 0 | T41: 337.67298 | U41: 0 | V41: 337.67298 | W41: 0 | X41: 0 | Y41: 0 | Z41: 0 | AA41: 0 | AB41: 0 | AC41: 0 | AD41: 0 | AE41: 0 | AF41: 0 | AG41: 0 | AH41: 337.67298 | AI41: 0 | AJ41: 0 | AK41: 0 | AL41: 0 | AM41: 0 | AN41: 0 | AO41: 0 | AP41: =R41-AH41 -> 0 | AQ41: 0 | AR41: 0
...

Sheet №3 ИП-ТС
I1: Приложение 4/3 к протоколу Департамента энергетики
I2: и тарифов Ивановской области от 09.09.2026 № 29/1
H3: Форма № 3-ИП ТС
A4: Плановые значения показателей, достижение которых предусмотрено в результате реализации мероприятий инвестиционной программы
A5: ='№1 ИП-ТС'!A12:B12 -> ИП Шорохов С.В.
A6: в сфере теплоснабжения на 2027-2030 годы
A8: N п/п | B8: Наименование показателя | C8: Ед. изм. | D8: Фактические значения | E8: Текущее значение | F8: Плановые значения
F9: в т.ч. по годам реализации
F11: 2027 | G11: =F11+1 -> 2028 | H11: =G11+1 -> 2029 | I11: =H11+1 -> 2030 | J11: =I11+1 -> 2031 | K11: =J11+1 -> 2032 | L11: =K11+1 -> 2033 | M11: =L11+1 -> 2034 | N11: =M11+1 -> 2035 | ... Q11: =P11+1 -> 2038 | R11: 2037-2045
A12: =COLUMN() -> 1 | B12: =COLUMN() -> 2 | C12: =COLUMN() -> 3 | D12: =COLUMN() -> 4 | E12: =COLUMN() -> 5 | F12: =COLUMN() -> 6 | G12: =COLUMN() -> 7 | H12: =COLUMN() -> 8 | ... R12: =COLUMN() -> 18
A13: 1 | B13: Удельный расход электрической энергии на транспортировку теплоносителя | C13: кВт•ч/м3 | D13: - | E13: - | F13: - | G13: - | H13: - | I13: - | J13: - | K13: - | L13: - | M13: - | N13: - | O13: - | P13: - | Q13: - | R13: -
A14: 2 | B14: Удельный расход условного топлива на отпуск с коллекторов единицы тепловой энергии | C14: кг.у.т./Гкал | D14: - | E14: - | F14: - | G14: =F14 -> - | H14: =G14 -> - | I14: =H14 -> - | J14: =I14 -> - | K14: =J14 -> - | L14: =K14 -> - | M14: =L14 -> - | N14: =M14 -> - | O14: =N14 -> - | P14: =N14 -> - | Q14: =O14 -> - | R14: =Q14 -> -
A15: =ROW()-15 -> 0 | C15: кг.у.т./м3 | D15: - | E15: - | F15: - | G15: - | H15: - | I15: - | J15: - | K15: - | L15: - | M15: - | N15: - | O15: - | P15: - | Q15: - | R15: =Q15 -> -
A16: 3 | B16: Объем присоединяемой тепловой нагрузки новых потребителей | C16: Гкал/ч | D16: - | E16: - | F16: - | G16: - | H16: - | I16: - | J16: - | K16: - | L16: - | M16: - | N16: - | O16: - | P16: - | Q16: - | R16: -
A17: 4 | B17: Износ объектов системы теплоснабжения с выделением процента износа объектов, существующих на начало реализации Инвестиционной программы | C17: % | D17: - | E17: - | F17: - | G17: - | H17: - | I17: - | J17: - | K17: - | L17: - | M17: - | N17: - | O17: - | P17: - | Q17: - | R17: -
A18: 5 | B18: Потери тепловой энергии при передаче тепловой энергии по тепловым сетям | C18: Гкал в год | D18: =E18 -> - | E18: =F18 -> - | F18: - | G18: =F18 -> - | H18: =G18 -> - | I18: =H18 -> - | J18: =I18 -> - | K18: =J18 -> - | L18: =K18 -> - | M18: =L18 -> - | N18: =M18 -> - | O18: =N18 -> - | P18: =N18 -> - | Q18: =O18 -> - | R18: =#REF!+#REF!+#REF! -> #REF!
A19: =ROW()-15 -> 4 | C19: % от полезного отпуска тепловой энергии | D19: =E19 -> - | E19: =F19 -> - | F19: - | G19: =F19 -> - | H19: =G19 -> - | I19: =H19 -> - | J19: =I19 -> - | K19: =J19 -> - | L19: =K19 -> - | M19: =L19 -> - | N19: =M19 -> - | O19: =N19 -> - | P19: =N19 -> - | Q19: =O19 -> - | R19: -
A20: 6 | B20: Потери теплоносителя при передаче тепловой энергии по тепловым сетям | C20: тонн в год для воды | D20: =E20 -> - | E20: =F20 -> - | F20: - | G20: =F20 -> - | H20: =G20 -> - | I20: =H20 -> - | J20: =I20 -> - | K20: =J20 -> - | L20: =K20 -> - | M20: =L20 -> - | N20: =M20 -> - | O20: =N20 -> - | P20: =N20 -> - | Q20: =O20 -> - | R20: =Q20 -> -
A21: =ROW()-15 -> 6 | C21: куб. м для пара | D21: =E21 -> - | E21: =F21 -> - | F21: - | G21: =F21 -> - | H21: =G21 -> - | I21: =H21 -> - | J21: =I21 -> - | K21: =J21 -> - | L21: =K21 -> - | M21: =L21 -> - | N21: =M21 -> - | O21: =N21 -> - | P21: =N21 -> - | Q21: =O21 -> - | R21: =#REF!+#REF!+#REF! -> #REF!
A22: 7 | B22: Показатели, характеризующие снижение негативного воздействия на окружающую среду, определяемые в соответствии с законодательством РФ об охране окружающей среды: | C22: в соответствии с законодательством РФ об охране окружающей среды | D22: - | E22: - | F22: - | G22: - | H22: - | I22: - | J22: - | K22: - | L22: - | M22: - | N22: - | O22: - | P22: - | Q22: - | R22: -
A23: 7.1. | B23: Содержание в уходящих газах СО | C23: % | D23: - | E23: - | F23: - | G23: - | H23: - | I23: - | J23: - | K23: - | L23: - | M23: - | N23: - | O23: - | P23: - | Q23: - | R23: -
A24: 7.2. | B24: Содержание в уходящих газах СО2 | C24: % | D24: - | E24: - | F24: - | G24: =F24 -> - | H24: =G24 -> - | I24: =H24 -> - | J24: =I24 -> - | K24: =J24 -> - | L24: =K24 -> - | M24: =L24 -> - | N24: =M24 -> - | O24: =N24 -> - | P24: =N24 -> - | Q24: =O24 -> - | R24: =Q24 -> -
A25: 7.3. | B25: Содержание в уходящих газах NOx | C25: % | D25: - | E25: - | F25: - | G25: - | H25: - | I25: - | J25: - | K25: - | L25: - | M25: - | N25: - | O25: - | P25: - | Q25: - | R25: -

Sheet № 4 ИП ТС
BR1: Приложение 4 к постановлению Департамента энергетики | BV1: Приложение 4 к постановлению Департамента энергетики | BZ1: Приложение 4/4 к протоколу Департамента энергетики
BR2: и тарифов Ивановской области от от 09.09.2026 № 29-ип(тс)/1 | BV2: и тарифов Ивановской области от от 09.09.2026 № 29-ип(тс)/1 | BZ2: и тарифов Ивановской области от от 09.09.2026 № 29/1
BR3: Форма № 4-ИП ТС | BV3: Форма № 4-ИП ТС | BZ3: Форма № 4-ИП ТС
A4: Показатели надежности и энергетической эффективности объектов централизованного теплоснабжения | CH4: =AL4 -> 0
A7: ='№1 ИП-ТС'!A12:B12 -> ИП Шорохов С.В.
A8: (наименование регулируемой организации)
A10: № п/п | B10: Наименование объекта | C10: Показатели надежности | AA10: Показатели энергетической эффективности | AM10: Показатели энергетической эффективности
C11: Количество прекращений подачи тепловой энергии, теплоносителя в результате технологических нарушений на тепловых сетях на 1 км тепловых сетей | O11: Количество прекращений подачи тепловой энергии, теплоносителя в результате технологических нарушений на источниках тепловой энергии на 1 Гкал/час установленной мощности | AA11: Удельный расход топлива на производство единицы тепловой энергии, отпускаемой с коллекторов источников тепловой энергии, кг у.т./Гкал | AM11: Отношение величины технологических потерь тепловой энергии, теплоносителя к материальной характеристике тепловой сети, Гкал/м2 | AY11: Отношение величины технологических потерь теплоносителя к материальной характеристике тепловой сети, м3/м2 | BK11: Величина технологических потерь при передаче тепловой энергии, теплоносителя по тепловым сетям, Гкал | BW11: Величина технологических потерь при передаче теплоносителя по тепловым сетям, м3
C14: Текущее значение | D14: Плановое значение | O14: Текущее значение | P14: Плановое значение | AA14: Текущее значение | AB14: Плановое значение | AM14: Текущее значение | AN14: Плановое значение | AY14: Текущее значение | AZ14: Плановое значение | BK14: Текущее значение | BL14: =AZ14 -> Плановое значение | BW14: Текущее значение | BX14: Плановое значение
D15: 2027 | E15: =D15+1 -> 2028 | F15: =E15+1 -> 2029 | G15: =F15+1 -> 2030 | H15: =G15+1 -> 2031 | I15: =H15+1 -> 2032 | J15: =I15+1 -> 2033 | K15: =J15+1 -> 2034 | L15: =K15+1 -> 2035 | M15: =L15+1 -> 2036 | N15: 2037-2038 | P15: =D15 -> 2027 | Q15: =E15 -> 2028 | R15: =F15 -> 2029 | S15: =G15 -> 2030 | T15: =H15 -> 2031 | U15: =I15 -> 2032 | V15: =J15 -> 2033 | W15: =K15 -> 2034 | ... Z15: =N15 -> 2037-2038 | AB15: =P15 -> 2027 | AC15: =Q15 -> 2028 | AD15: =R15 -> 2029 | AE15: =S15 -> 2030 | AF15: =T15 -> 2031 | AG15: =U15 -> 2032 | AH15: =V15 -> 2033 | AI15: =W15 -> 2034 | ... AL15: =Z15 -> 2037-2038 | AN15: =AB15 -> 2027 | AO15: =AC15 -> 2028 | AP15: =AD15 -> 2029 | AQ15: =AE15 -> 2030 | AR15: =AF15 -> 2031 | AS15: =AG15 -> 2032 | AT15: =AH15 -> 2033 | AU15: =AI15 -> 2034 | ... AX15: =AL15 -> 2037-2038 | AZ15: =AN15 -> 2027 | BA15: =AO15 -> 2028 | BB15: =AP15 -> 2029 | BC15: =AQ15 -> 2030 | BD15: =AR15 -> 2031 | BE15: =AS15 -> 2032 | BF15: =AT15 -> 2033 | BG15: =AU15 -> 2034 | ... BJ15: =AX15 -> 2037-2038 | BL15: =AZ15 -> 2027 | BM15: =BA15 -> 2028 | BN15: =BB15 -> 2029 | BO15: =BC15 -> 2030 | BP15: =BD15 -> 2031 | BQ15: =BE15 -> 2032 | BR15: =BF15 -> 2033 | BS15: =BG15 -> 2034 | ... BV15: =BJ15 -> 2037-2038 | BX15: =BL15 -> 2027 | BY15: =BM15 -> 2028 | BZ15: =BN15 -> 2029 | CA15: =BO15 -> 2030 | CB15: =BP15 -> 2031 | CC15: =BQ15 -> 2032 | CD15: =BR15 -> 2033 | CE15: =BS15 -> 2034 | ... CH15: =BV15 -> 2037-2038
A16: 1 | B16: =A16+1 -> 2 | C16: =B16+1 -> 3 | D16: =C16+1 -> 4 | E16: =D16+1 -> 5 | F16: =E16+1 -> 6 | G16: =F16+1 -> 7 | H16: =G16+1 -> 8 | I16: =H16+1 -> 9 | ... N16: =M16+1 -> 14 | O16: 8 | P16: =O16+1 -> 9 | Q16: =P16+1 -> 10 | R16: =Q16+1 -> 11 | S16: =R16+1 -> 12 | T16: =S16+1 -> 13 | U16: =T16+1 -> 14 | V16: =U16+1 -> 15 | W16: =V16+1 -> 16 | ... Z16: =Y16+1 -> 19 | AA16: 13 | AB16: =AA16+1 -> 14 | AC16: =AB16+1 -> 15 | AD16: =AC16+1 -> 16 | AE16: =AD16+1 -> 17 | AF16: =AE16+1 -> 18 | AG16: =AF16+1 -> 19 | AH16: =AG16+1 -> 20 | AI16: =AH16+1 -> 21 | ... AL16: =AK16+1 -> 24 | AM16: 18 | AN16: =AM16+1 -> 19 | AO16: =AN16+1 -> 20 | AP16: =AO16+1 -> 21 | AQ16: =AP16+1 -> 22 | AR16: =AQ16+1 -> 23 | AS16: =AR16+1 -> 24 | AT16: =AS16+1 -> 25 | AU16: =AT16+1 -> 26 | ... AX16: =AW16+1 -> 29 | AY16: 23 | AZ16: =AY16+1 -> 24 | BA16: =AZ16+1 -> 25 | BB16: =BA16+1 -> 26 | BC16: =BB16+1 -> 27 | BD16: =BC16+1 -> 28 | BE16: =BD16+1 -> 29 | BF16: =BE16+1 -> 30 | BG16: =BF16+1 -> 31 | ... BJ16: =BI16+1 -> 34 | BK16: 28 | BL16: =BK16+1 -> 29 | BM16: =BL16+1 -> 30 | BN16: =BM16+1 -> 31 | BO16: =BN16+1 -> 32 | BP16: =BO16+1 -> 33 | BQ16: =BP16+1 -> 34 | BR16: =BQ16+1 -> 35 | BS16: =BR16+1 -> 36 | ... BV16: =BU16+1 -> 39 | BW16: 33 | BX16: =BW16+1 -> 34 | BY16: =BX16+1 -> 35 | BZ16: =BY16+1 -> 36 | CA16: =BZ16+1 -> 37 | CB16: =CA16+1 -> 38 | CC16: =CB16+1 -> 39 | CD16: =CC16+1 -> 40 | CE16: =CD16+1 -> 41 | ... CH16: =CG16+1 -> 44
A17: 1 | B17: БМК с.Морозово | C17: - | D17: - | E17: - | F17: - | G17: - | H17: - | I17: - | J17: - | K17: - | L17: - | M17: - | N17: - | O17: 0 | P17: 0 | Q17: 0 | R17: 0 | S17: 0 | T17: 0 | U17: 0 | V17: 0 | W17: 0 | X17: 0 | Y17: 0 | Z17: 0 | AA17: ='№3 ИП-ТС'!E15 -> - | AB17: ='№3 ИП-ТС'!F15 -> - | AC17: ='№3 ИП-ТС'!G15 -> - | AD17: ='№3 ИП-ТС'!H15 -> - | AE17: ='№3 ИП-ТС'!I15 -> - | AF17: ='№3 ИП-ТС'!J15 -> - | AG17: ='№3 ИП-ТС'!K15 -> - | AH17: ='№3 ИП-ТС'!L15 -> - | ... AL17: ='№3 ИП-ТС'!P15 -> - | AM17: - | AN17: - | AO17: - | AP17: - | AQ17: - | AR17: - | AS17: - | AT17: - | AU17: - | AV17: - | AW17: - | AX17: - | AY17: - | AZ17: - | BA17: - | BB17: - | BC17: - | BD17: - | BE17: - | BF17: - | BG17: - | BH17: - | BI17: - | BJ17: - | BK17: ='№3 ИП-ТС'!E18 -> - | BL17: ='№3 ИП-ТС'!F18 -> - | BM17: ='№3 ИП-ТС'!G18 -> - | BN17: ='№3 ИП-ТС'!H18 -> - | BO17: ='№3 ИП-ТС'!I18 -> - | BP17: ='№3 ИП-ТС'!J18 -> - | BQ17: ='№3 ИП-ТС'!K18 -> - | BR17: ='№3 ИП-ТС'!L18 -> - | ... BV17: ='№3 ИП-ТС'!P18 -> - | BW17: ='№3 ИП-ТС'!E21 -> - | BX17: ='№3 ИП-ТС'!F21 -> - | BY17: ='№3 ИП-ТС'!G21 -> - | BZ17: ='№3 ИП-ТС'!H21 -> - | CA17: ='№3 ИП-ТС'!I21 -> - | CB17: ='№3 ИП-ТС'!J21 -> - | CC17: ='№3 ИП-ТС'!K21 -> - | CD17: ='№3 ИП-ТС'!L21 -> - | ... CH17: ='№3 ИП-ТС'!P21 -> -
BF19: С.В. Шорохов

Sheet №5 ИП-ТС
L1: Приложение 5 к постановлению Департамента энергетики | M1: Приложение 5 к постановлению Департамента энергетики | N1: Приложение 5 к постановлению Департамента энергетики | O1: Приложение 5 к постановлению Департамента энергетики | P1: Приложение 5 к постановлению Департамента энергетики | Q1: Приложение 5 к постановлению Департамента энергетики | R1: Приложение 5 к постановлению Департамента энергетики | S1: Приложение 5 к постановлению Департамента энергетики | T1: Приложение 5 к постановлению Департамента энергетики | U1: Приложение 5 к постановлению Департамента энергетики | V1: Приложение 5 к постановлению Департамента энергетики | W1: Приложение 5 к постановлению Департамента энергетики | X1: Приложение 5 к постановлению Департамента энергетики | Y1: Приложение 5 к постановлению Департамента энергетики | Z1: Приложение 5 к постановлению Департамента энергетики | AA1: Приложение 5 к постановлению Департамента энергетики | AB1: Приложение 5 к постановлению Департамента энергетики | AC1: Приложение 4/5 к протоколу Департамента энергетики
L2: и тарифов Ивановской области от 26.06.2026 № 21-ип(тс)/1 | M2: и тарифов Ивановской области от 26.06.2026 № 21-ип(тс)/1 | N2: и тарифов Ивановской области от 26.06.2026 № 21-ип(тс)/1 | O2: и тарифов Ивановской области от 26.06.2026 № 21-ип(тс)/1 | P2: и тарифов Ивановской области от 26.06.2026 № 21-ип(тс)/1 | Q2: и тарифов Ивановской области от 26.06.2026 № 21-ип(тс)/1 | R2: и тарифов Ивановской области от 26.06.2026 № 21-ип(тс)/1 | S2: и тарифов Ивановской области от 26.06.2026 № 21-ип(тс)/1 | T2: и тарифов Ивановской области от 26.06.2026 № 21-ип(тс)/1 | U2: и тарифов Ивановской области от 26.06.2026 № 21-ип(тс)/1 | V2: и тарифов Ивановской области от 26.06.2026 № 21-ип(тс)/1 | W2: и тарифов Ивановской области от 26.06.2026 № 21-ип(тс)/1 | X2: и тарифов Ивановской области от 26.06.2026 № 21-ип(тс)/1 | Y2: и тарифов Ивановской области от 26.06.2026 № 21-ип(тс)/1 | Z2: и тарифов Ивановской области от 26.06.2026 № 21-ип(тс)/1 | AA2: и тарифов Ивановской области от 26.06.2026 № 21-ип(тс)/1 | AB2: и тарифов Ивановской области от 26.06.2026 № 21-ип(тс)/1 | AC2: и тарифов Ивановской области от 09.09.2026 № 29/1
L3: Форма N 5-ИП ТС | M3: Форма N 5-ИП ТС | N3: Форма N 5-ИП ТС | O3: Форма N 5-ИП ТС | P3: Форма N 5-ИП ТС | Q3: Форма N 5-ИП ТС | R3: Форма N 5-ИП ТС | S3: Форма N 5-ИП ТС | T3: Форма N 5-ИП ТС | U3: Форма N 5-ИП ТС | V3: Форма N 5-ИП ТС | W3: Форма N 5-ИП ТС | X3: Форма N 5-ИП ТС | Y3: Форма N 5-ИП ТС | Z3: Форма N 5-ИП ТС | AA3: Форма N 5-ИП ТС | AB3: Форма N 5-ИП ТС | AC3: Форма N 5-ИП ТС
A4: Финансовый план инвестиционной программы в сфере теплоснабжения
A5: ='[1]№1 ИП-ТС'!A9:B9 -> ИП Шорохов С.В.
A6: на 2027-2030 годы
A8: N п/п | B8: Источники финансирования | C8: Расходы на реализацию инвестиционной программы (тыс. руб., без НДС) (с использованием прогнозных индексов цен) | AC8: По мероприятиям, согласно Формы № 2-ИП ТС
C9: Всего | D9: в т.ч. по видам деятельности | F9: Всего | G9: Профинансировано к 2027 году | H9: 2027 | I9: =H9+1 -> 2028 | J9: =I9+1 -> 2029 | K9: =J9+1 -> 2030 | L9: =K9+1 -> 2031 | M9: =L9+1 -> 2032 | N9: =M9+1 -> 2033 | O9: =N9+1 -> 2034 | P9: =O9+1 -> 2035 | ... AB9: =AA9+1 -> 2047
D10: Производство тепловой энергии | E10: Передача тепловой энергии
A11: =COLUMN() -> 1 | B11: =COLUMN() -> 2 | C11: =COLUMN() -> 3 | D11: 3.1. | E11: 3.2. | F11: 4 | G11: 5 | H11: =G11+1 -> 6 | I11: =H11+1 -> 7 | J11: =I11+1 -> 8 | K11: =J11+1 -> 9 | L11: =K11+1 -> 10 | M11: =L11+1 -> 11 | N11: =M11+1 -> 12 | O11: =N11+1 -> 13 | ... Z11: =Y11+1 -> 24 | AA11: =Y11+1 -> 24 | AB11: =Z11+1 -> 25 | AC11: 10
A12: =B8 -> Источники финансирования
A13: 1. | B13: Собственные средства | C13: 1444.38 | D13: 1444.38 | E13: 0 | F13: 1444.38 | G13: 0 | H13: 722.19 | I13: 722.19 | J13: 0 | K13: 0 | L13: 0 | M13: 0 | N13: 0 | O13: 0 | P13: 0 | Q13: 0 | R13: 0 | S13: 0 | T13: 0 | U13: 0 | V13: 0 | W13: 0 | X13: 0 | Y13: 0 | Z13: 0 | AA13: 0 | AB13: 0
A14: 1.1. | B14: амортизационные отчисления с выделением результатов переоценки основных средств и нематериальных активов | C14: 1444.38 | D14: 1444.38 | E14: 0 | F14: 1444.38 | G14: 0 | H14: 722.19 | I14: 722.19 | J14: 0 | K14: 0 | L14: 0 | M14: 0 | N14: 0 | O14: 0 | P14: 0 | Q14: 0 | R14: 0 | S14: 0 | T14: 0 | U14: 0 | V14: 0 | W14: 0 | X14: 0 | Y14: 0 | Z14: 0 | AA14: 0 | AB14: 0
A15: 1.1.1 | B15: Установка системы видеонаблюдения по периметру котельной с.Морозово | C15: 207.5333 | D15: 207.5333 | E15: 0 | F15: 207.5333 | G15: 0 | H15: 207.5333 | I15: 0 | J15: 0 | K15: 0 | L15: 0 | M15: 0 | N15: 0 | O15: 0 | P15: 0 | Q15: 0 | R15: 0 | S15: 0 | T15: 0 | U15: 0 | V15: 0 | W15: 0 | X15: 0 | Y15: 0 | Z15: 0 | AA15: 0 | AB15: 0 | AC15: 6.1
A16: 1.1.2 | B16: Установка основного ограждения по периметру котельной с. Морозово | C16: 337.67298 | D16: 337.67298 | E16: 0 | F16: 337.67298 | G16: 0 | H16: 337.67298 | I16: 0 | J16: 0 | K16: 0 | L16: 0 | M16: 0 | N16: 0 | O16: 0 | P16: 0 | Q16: 0 | R16: 0 | S16: 0 | T16: 0 | U16: 0 | V16: 0 | W16: 0 | X16: 0 | Y16: 0 | Z16: 0 | AA16: 0 | AB16: 0 | AC16: 6.2
A17: 1.1.3 | B17: Организация резервного электроснабжения котельной с. Морозово | C17: 722.19 | D17: 722.19 | E17: 0 | F17: 722.19 | G17: 0 | H17: 0 | I17: 722.19 | J17: 0 | K17: 0 | L17: 0 | M17: 0 | N17: 0 | O17: 0 | P17: 0 | Q17: 0 | R17: 0 | S17: 0 | T17: 0 | U17: 0 | V17: 0 | W17: 0 | X17: 0 | Y17: 0 | Z17: 0 | AA17: 0 | AB17: 0 | AC17: 6.3
A18: 1.1.4 | B18: Установка резервного котлоагрегата в котельной с. Морозово | C18: 176.98372 | D18: 176.98372 | E18: 0 | F18: 176.98372 | G18: 0 | H18: 176.98372 | I18: 0 | K18: 0 | L18: 0 | M18: 0 | N18: 0 | O18: 0 | P18: 0 | Q18: 0 | R18: 0 | S18: 0 | T18: 0 | U18: 0 | V18: 0 | W18: 0 | X18: 0 | Y18: 0 | Z18: 0 | AA18: 0 | AB18: 0 | AC18: 3.2.1
A19: 1.2. | B19: расходы на капитальные вложения (инвестиции), финансируемые за счет нормативной прибыли, учитываемой в необходимой валовой выручке | C19: 0 | D19: 0 | E19: 0 | F19: 0 | G19: 0 | H19: 0 | I19: 0 | J19: 0 | K19: 0 | L19: 0 | M19: 0 | N19: 0 | O19: 0 | P19: 0 | Q19: 0 | R19: 0 | S19: 0 | T19: 0 | U19: 0 | V19: 0 | W19: 0 | X19: 0 | Y19: 0 | Z19: 0 | AA19: 0 | AB19: 0
A20: 1.3. | B20: Экономия расходов | C20: 0 | D20: 0 | E20: 0 | F20: 0 | G20: 0 | H20: 0 | I20: 0 | J20: 0 | K20: 0 | L20: 0 | M20: 0 | N20: 0 | O20: 0 | P20: 0 | Q20: 0 | R20: 0 | S20: 0 | T20: 0 | U20: 0 | V20: 0 | W20: 0 | X20: 0 | Y20: 0 | Z20: 0 | AA20: 0 | AB20: 0
A21: 1.3.1. | B21: достигнутая в результате реализации мероприятий инвестиционной программы | C21: 0 | D21: 0 | E21: 0 | F21: 0 | G21: 0 | H21: 0 | I21: 0 | J21: 0 | K21: 0 | L21: 0 | M21: 0 | N21: 0 | O21: 0 | P21: 0 | Q21: 0 | R21: 0 | S21: 0 | T21: 0 | U21: 0 | V21: 0 | W21: 0 | X21: 0 | Y21: 0 | Z21: 0 | AA21: 0 | AB21: 0
A22: 1.3.2. | B22: связанная с сокращением потерь в тепловых сетях, сменой видов и (или) марки основного и (или) резервного топлива на источниках тепловой энергии, реализацией энергосервесного договора (контракта) в размере, определенном по решению регулируемой организации | C22: 0 | D22: 0 | E22: 0 | F22: 0 | G22: 0 | H22: 0 | I22: 0 | J22: 0 | K22: 0 | L22: 0 | M22: 0 | N22: 0 | O22: 0 | P22: 0 | Q22: 0 | R22: 0 | S22: 0 | T22: 0 | U22: 0 | V22: 0 | W22: 0 | X22: 0 | Y22: 0 | Z22: 0 | AA22: 0 | AB22: 0
A23: 1.4. | B23: плата за подключение (технологическое присоединение) к системам централизованного теплоснабжения (раздельно по каждой системе, если регулируемая организация эксплуатирует несколько таких систем) | C23: 0 | D23: 0 | E23: 0 | F23: 0 | G23: 0 | H23: 0 | I23: 0 | J23: 0 | K23: 0 | L23: 0 | M23: 0 | N23: 0 | O23: 0 | P23: 0 | Q23: 0 | R23: 0 | S23: 0 | T23: 0 | U23: 0 | V23: 0 | W23: 0 | X23: 0 | Y23: 0 | Z23: 0 | AA23: 0 | AB23: 0
A24: 1.5. | B24: расходы на уплату лизинговых платежей по договору финансовой аренды (лизинга) | C24: 0 | D24: 0 | E24: 0 | F24: 0 | G24: 0 | H24: 0 | I24: 0 | J24: 0 | K24: 0 | L24: 0 | M24: 0 | N24: 0 | O24: 0 | P24: 0 | Q24: 0 | R24: 0 | S24: 0 | T24: 0 | U24: 0 | V24: 0 | W24: 0 | X24: 0 | Y24: 0 | Z24: 0 | AA24: 0 | AB24: 0
A25: 2. | B25: Иные собственные средства, за исключением средств, указанных в разделе 1 | C25: 0 | D25: 0 | E25: 0 | F25: 0 | G25: 0 | H25: 0 | I25: 0 | J25: 0 | K25: 0 | L25: 0 | M25: 0 | N25: 0 | O25: 0 | P25: 0 | Q25: 0 | R25: 0 | S25: 0 | T25: 0 | U25: 0 | V25: 0 | W25: 0 | X25: 0 | Y25: 0 | Z25: 0 | AA25: 0 | AB25: 0
A26: 3. | B26: Средства, привлеченные на возвратной основе | C26: 1030.4919 | D26: 1030.4919 | E26: 0 | F26: 1030.4919 | G26: 0 | H26: 166.26488 | I26: 864.22699 | J26: 0 | K26: 0 | L26: 0 | M26: 0 | N26: 0 | O26: 0 | P26: 0 | Q26: 0 | R26: 0 | S26: 0 | T26: 0 | U26: 0 | V26: 0 | W26: 0 | X26: 0 | Y26: 0 | Z26: 0 | AA26: 0 | AB26: 0
A27: 3.1. | B27: кредиты | C27: 0 | D27: 0 | E27: 0 | F27: 0 | G27: 0 | H27: 0 | I27: 0 | J27: 0 | K27: 0 | L27: 0 | M27: 0 | N27: 0 | O27: 0 | P27: 0 | Q27: 0 | R27: 0 | S27: 0 | T27: 0 | U27: 0 | V27: 0 | W27: 0 | X27: 0 | Y27: 0 | Z27: 0 | AA27: 0 | AB27: 0
A28: 3.2. | B28: займы организаций | C28: 1030.4919 | D28: 1030.4919 | E28: 0 | F28: 1030.4919 | G28: 0 | H28: 166.26488 | I28: 864.22699 | J28: 0 | K28: 0 | L28: 0 | M28: 0 | N28: 0 | O28: 0 | P28: 0 | Q28: 0 | R28: 0 | S28: 0 | T28: 0 | U28: 0 | V28: 0 | W28: 0 | X28: 0 | Y28: 0 | Z28: 0 | AA28: 0 | AB28: 0
A29: 3.2.1 | B29: Организация резервного электроснабжения котельной с. Морозово | C29: 864.22699 | D29: 864.22699 | E29: 0 | F29: 864.22699 | G29: 0 | H29: 0 | I29: 864.22699 | J29: 0 | K29: 0 | L29: 0 | M29: 0 | N29: 0 | O29: 0 | P29: 0 | Q29: 0 | R29: 0 | S29: 0 | T29: 0 | U29: 0 | V29: 0 | W29: 0 | X29: 0 | Y29: 0 | Z29: 0 | AA29: 0 | AB29: 0 | AC29: 6.3
A30: 3.2.2 | B30: Установка резервного котлоагрегата в котельной с. Морозово | C30: 166.26488 | D30: 166.26488 | E30: 0 | F30: 166.26488 | G30: 0 | H30: 166.26488 | I30: 0 | J30: 0 | K30: 0 | L30: 0 | M30: 0 | N30: 0 | O30: 0 | P30: 0 | Q30: 0 | R30: 0 | S30: 0 | T30: 0 | U30: 0 | V30: 0 | W30: 0 | X30: 0 | Y30: 0 | Z30: 0 | AA30: 0 | AB30: 0 | AC30: 3.2.1
A31: 3.3. | B31: прочие привлеченные средства | C31: 0 | D31: 0 | E31: 0 | F31: 0 | G31: 0 | H31: 0 | I31: 0 | J31: 0 | K31: 0 | L31: 0 | M31: 0 | N31: 0 | O31: 0 | P31: 0 | Q31: 0 | R31: 0 | S31: 0 | T31: 0 | U31: 0 | V31: 0 | W31: 0 | X31: 0 | Y31: 0 | Z31: 0 | AA31: 0 | AB31: 0
A32: 4. | B32: Бюджетные средства по каждой системе ццентрализованного теплоснабжения с выделением расходов концедента на строительство, модернизацию и (или) реконструкцию объекта концессионного соглашения по каждой системе централизованного теплоснабжения при наличии таких расходов | C32: 0 | D32: 0 | E32: 0 | F32: 0 | G32: 0 | H32: 0 | I32: 0 | J32: 0 | K32: 0 | L32: 0 | M32: 0 | N32: 0 | O32: 0 | P32: 0 | Q32: 0 | R32: 0 | S32: 0 | T32: 0 | U32: 0 | V32: 0 | W32: 0 | X32: 0 | Y32: 0 | Z32: 0 | AA32: 0 | AB32: 0
A33: 5. | B33: Прочие источники финансирования | C33: 0 | D33: 0 | E33: 0 | F33: 0 | G33: 0 | H33: 0 | I33: 0 | J33: 0 | K33: 0 | L33: 0 | M33: 0 | N33: 0 | O33: 0 | P33: 0 | Q33: 0 | R33: 0 | S33: 0 | T33: 0 | U33: 0 | V33: 0 | W33: 0 | X33: 0 | Y33: 0 | Z33: 0 | AA33: 0 | AB33: 0
B34: ИТОГО по программе | C34: 2474.8719 | D34: 2474.8719 | E34: 0 | F34: 2474.8719 | G34: 0 | H34: 888.45488 | I34: 1586.417 | J34: 0 | K34: 0 | L34: 0 | M34: 0 | N34: 0 | O34: 0 | P34: 0 | Q34: 0 | R34: 0 | S34: 0 | T34: 0 | U34: 0 | V34: 0 | W34: 0 | X34: 0 | Y34: 0 | Z34: 0 | AA34: 0 | AB34: 0
A35: Источники возврата вложенных средств
A36: 1. | B36: Собственные средства | C36: =D36+E36 -> 2474.8719 | D36: =D37+D42+D43+D44 -> 2474.8719 | E36: =E37+E42+E43+E44 -> 0 | F36: =SUM(G36:AB36) -> #REF! | G36: =G37+G42+G43+G44 -> 0 | H36: =H37+H42+H43+H44 -> #REF! | I36: =I37+I42+I43+I44 -> #REF! | J36: =J37+J42+J43+J44 -> #REF! | K36: =K37+K42+K43+K44 -> #REF! | L36: =L37+L42+L43+L44 -> #REF! | M36: =M37+M42+M43+M44 -> #REF! | N36: =N37+N42+N43+N44 -> #REF! | ... AB36: =AB37+AB42+AB43+AB44 -> #REF!
A37: 1.1 | B37: амортизационные отчисления, в том числе: | C37: =SUM(C38:C41) -> 2474.8719 | D37: =SUM(D38:D41) -> 2474.8719 | E37: =SUM(E38:E41) -> 0 | F37: =SUM(F38:F41) -> #REF! | G37: =SUM(G38:G41) -> 0 | H37: =SUM(H38:H41) -> #REF! | I37: =SUM(I38:I41) -> #REF! | J37: =SUM(J38:J41) -> #REF! | ... AB37: =SUM(AB38:AB41) -> #REF!
A38: 1.1.1 | B38: =B15 -> Установка системы видеонаблюдения по периметру котельной с.Морозово | C38: =[1]мероприятия!F7 -> 207.5333 | D38: =C38-E38 -> 207.5333 | E38: 0 | F38: =SUM(G38:AB38) -> #REF! | G38: 0 | H38: =#REF! -> #REF! | I38: =#REF! -> #REF! | J38: =#REF! -> #REF! | K38: =#REF! -> #REF! | L38: =#REF! -> #REF! | M38: =#REF! -> #REF! | N38: =#REF! -> #REF! | O38: =#REF! -> #REF! | ... AB38: =#REF! -> #REF! | AC38: =AC15 -> 6.1
A39: 1.1.2 | B39: =B16 -> Установка основного ограждения по периметру котельной с. Морозово | C39: =[1]мероприятия!F8 -> 337.67298 | D39: =C39-E39 -> 337.67298 | E39: 0 | F39: =SUM(G39:AB39) -> #REF! | G39: 0 | H39: =#REF! -> #REF! | I39: =#REF! -> #REF! | J39: =#REF! -> #REF! | K39: =#REF! -> #REF! | L39: =#REF! -> #REF! | M39: =#REF! -> #REF! | N39: =#REF! -> #REF! | O39: =#REF! -> #REF! | ... AB39: =#REF! -> #REF! | AC39: =AC16 -> 6.2
A40: 1.1.3 | B40: =B17 -> Организация резервного электроснабжения котельной с. Морозово | C40: =[1]мероприятия!F9 -> 1586.417 | D40: =C40-E40 -> 1586.417 | E40: 0 | F40: =SUM(G40:AB40) -> #REF! | G40: 0 | H40: =#REF! -> #REF! | I40: =#REF! -> #REF! | J40: =#REF! -> #REF! | K40: =#REF! -> #REF! | L40: =#REF! -> #REF! | M40: =#REF! -> #REF! | N40: =#REF! -> #REF! | O40: =#REF! -> #REF! | ... AB40: =#REF! -> #REF! | AC40: =AC17 -> 6.3
A41: 1.1.4 | B41: =B18 -> Установка резервного котлоагрегата в котельной с. Морозово | C41: =[1]мероприятия!F10 -> 343.2486 | D41: =C41-E41 -> 343.2486 | E41: 0 | F41: =SUM(G41:AB41) -> #REF! | G41: 0 | H41: =#REF! -> #REF! | I41: =#REF! -> #REF! | J41: =#REF! -> #REF! | K41: =#REF! -> #REF! | L41: =#REF! -> #REF! | M41: =#REF! -> #REF! | N41: =#REF! -> #REF! | O41: =#REF! -> #REF! | ... AB41: =#REF! -> #REF! | AC41: =AC18 -> 3.2.1
...
